Workbook
Name ST_Age: 'Self Esteem'!$C$3:$C$62
Name ST_Bank: Bank!$E$11:$E$218
Name ST_Employee: Bank!$A$11:$A$218
Name ST_Gender: Bank!$F$11:$F$218
Name ST_MonWork: 'Self Esteem'!$D$3:$D$62
Name ST_MS2: 'Self Esteem'!$E$3:$E$62
Name ST_MS3: 'Self Esteem'!$F$3:$F$62
Name ST_MS4: 'Self Esteem'!$G$3:$G$62
Name ST_Salary: Bank!$B$11:$B$218
Name ST_SelfEsteem: 'Self Esteem'!$A$3:$A$62
Name ST_SL: 'Self Esteem'!$H$3:$H$62
Name ST_YrsEdu: 'Self Esteem'!$B$3:$B$62
Name ST_YrsExp: Bank!$C$11:$C$218
Name ST_YrsPrior: Bank!$D$11:$D$218

Sheet Self Esteem
A1: y | B1: X2 | C1: X3 | D1: X1 | E1: X4 | F1: X5 | G1: X6 | H1: X7 | I1: Categorical Variables | P1: Part | Q1: a | R1: b
A2: Self Esteem | B2: YrsEdu | C2: Age | D2: MonWork | E2: MS2 | F2: MS3 | G2: MS4 | H2: SL | I2: SL | J2: MS | N2: Question 1 | P2: Grader
A3: 2 | B3: 9 | C3: 52 | D3: 4 | E3: =IF(J3="Married",1,0) -> 0 | F3: =IF(J3="Separated",1,0) -> 0 | G3: =IF(J3="Divorced",1,0) -> 0 | H3: =IF(I3="Direct",1,0) -> 0 | I3: None | J3: Single
A4: 2 | B4: 9 | C4: 52 | D4: 4 | E4: =IF(J4="Married",1,0) -> 0 | F4: =IF(J4="Separated",1,0) -> 0 | G4: =IF(J4="Divorced",1,0) -> 0 | H4: =IF(I4="Direct",1,0) -> 0 | I4: None | J4: Single
A5: 3 | B5: 11 | C5: 40 | D5: 14 | E5: =IF(J5="Married",1,0) -> 0 | F5: =IF(J5="Separated",1,0) -> 0 | G5: =IF(J5="Divorced",1,0) -> 0 | H5: =IF(I5="Direct",1,0) -> 1 | I5: Direct | J5: Single
A6: 3 | B6: 9 | C6: 46 | D6: 10 | E6: =IF(J6="Married",1,0) -> 0 | F6: =IF(J6="Separated",1,0) -> 0 | G6: =IF(J6="Divorced",1,0) -> 0 | H6: =IF(I6="Direct",1,0) -> 1 | I6: Direct | J6: Single
A7: 3 | B7: 12 | C7: 40 | D7: 12 | E7: =IF(J7="Married",1,0) -> 0 | F7: =IF(J7="Separated",1,0) -> 0 | G7: =IF(J7="Divorced",1,0) -> 0 | H7: =IF(I7="Direct",1,0) -> 0 | I7: None | J7: Single
A8: 3 | B8: 10 | C8: 47 | D8: 6 | E8: =IF(J8="Married",1,0) -> 0 | F8: =IF(J8="Separated",1,0) -> 0 | G8: =IF(J8="Divorced",1,0) -> 0 | H8: =IF(I8="Direct",1,0) -> 0 | I8: None | J8: Single
A9: 3 | B9: 10 | C9: 50 | D9: 4 | E9: =IF(J9="Married",1,0) -> 0 | F9: =IF(J9="Separated",1,0) -> 0 | G9: =IF(J9="Divorced",1,0) -> 0 | H9: =IF(I9="Direct",1,0) -> 0 | I9: None | J9: Single
A10: 3 | B10: 10 | C10: 44 | D10: 5 | E10: =IF(J10="Married",1,0) -> 0 | F10: =IF(J10="Separated",1,0) -> 0 | G10: =IF(J10="Divorced",1,0) -> 0 | H10: =IF(I10="Direct",1,0) -> 0 | I10: None | J10: Single
A11: 3 | B11: 9 | C11: 46 | D11: 9 | E11: =IF(J11="Married",1,0) -> 1 | F11: =IF(J11="Separated",1,0) -> 0 | G11: =IF(J11="Divorced",1,0) -> 0 | H11: =IF(I11="Direct",1,0) -> 1 | I11: Direct | J11: Married
A12: 3 | B12: 9 | C12: 47 | D12: 4 | E12: =IF(J12="Married",1,0) -> 1 | F12: =IF(J12="Separated",1,0) -> 0 | G12: =IF(J12="Divorced",1,0) -> 0 | H12: =IF(I12="Direct",1,0) -> 0 | I12: None | J12: Married
A13: 3 | B13: 10 | C13: 51 | D13: 4 | E13: =IF(J13="Married",1,0) -> 1 | F13: =IF(J13="Separated",1,0) -> 0 | G13: =IF(J13="Divorced",1,0) -> 0 | H13: =IF(I13="Direct",1,0) -> 0 | I13: None | J13: Married
A14: 3 | B14: 9 | C14: 47 | D14: 11 | E14: =IF(J14="Married",1,0) -> 0 | F14: =IF(J14="Separated",1,0) -> 1 | G14: =IF(J14="Divorced",1,0) -> 0 | H14: =IF(I14="Direct",1,0) -> 1 | I14: Direct | J14: Separated
A15: 3 | B15: 9 | C15: 51 | D15: 10 | E15: =IF(J15="Married",1,0) -> 0 | F15: =IF(J15="Separated",1,0) -> 1 | G15: =IF(J15="Divorced",1,0) -> 0 | H15: =IF(I15="Direct",1,0) -> 1 | I15: Direct | J15: Separated | N15: Part | O15: Grader
A16: 3 | B16: 10 | C16: 42 | D16: 12 | E16: =IF(J16="Married",1,0) -> 0 | F16: =IF(J16="Separated",1,0) -> 1 | G16: =IF(J16="Divorced",1,0) -> 0 | H16: =IF(I16="Direct",1,0) -> 1 | I16: Direct | J16: Separated | N16: c
A17: 3 | B17: 9 | C17: 48 | D17: 9 | E17: =IF(J17="Married",1,0) -> 0 | F17: =IF(J17="Separated",1,0) -> 1 | G17: =IF(J17="Divorced",1,0) -> 0 | H17: =IF(I17="Direct",1,0) -> 1 | I17: Direct | J17: Separated | N17: d
A18: 3 | B18: 9 | C18: 46 | D18: 3 | E18: =IF(J18="Married",1,0) -> 0 | F18: =IF(J18="Separated",1,0) -> 1 | G18: =IF(J18="Divorced",1,0) -> 0 | H18: =IF(I18="Direct",1,0) -> 0 | I18: None | J18: Separated
A19: 3 | B19: 12 | C19: 37 | D19: 14 | E19: =IF(J19="Married",1,0) -> 0 | F19: =IF(J19="Separated",1,0) -> 1 | G19: =IF(J19="Divorced",1,0) -> 0 | H19: =IF(I19="Direct",1,0) -> 0 | I19: None | J19: Separated
A20: 3 | B20: 12 | C20: 35 | D20: 13 | E20: =IF(J20="Married",1,0) -> 0 | F20: =IF(J20="Separated",1,0) -> 1 | G20: =IF(J20="Divorced",1,0) -> 0 | H20: =IF(I20="Direct",1,0) -> 0 | I20: None | J20: Separated
A21: 3 | B21: 9 | C21: 43 | D21: 3 | E21: =IF(J21="Married",1,0) -> 0 | F21: =IF(J21="Separated",1,0) -> 1 | G21: =IF(J21="Divorced",1,0) -> 0 | H21: =IF(I21="Direct",1,0) -> 0 | I21: None | J21: Separated
A22: 3 | B22: 10 | C22: 45 | D22: 4 | E22: =IF(J22="Married",1,0) -> 0 | F22: =IF(J22="Separated",1,0) -> 1 | G22: =IF(J22="Divorced",1,0) -> 0 | H22: =IF(I22="Direct",1,0) -> 0 | I22: None | J22: Separated
A23: 3 | B23: 10 | C23: 50 | D23: 10 | E23: =IF(J23="Married",1,0) -> 0 | F23: =IF(J23="Separated",1,0) -> 0 | G23: =IF(J23="Divorced",1,0) -> 1 | H23: =IF(I23="Direct",1,0) -> 1 | I23: Direct | J23: Divorced
A24: 3 | B24: 9 | C24: 46 | D24: 8 | E24: =IF(J24="Married",1,0) -> 0 | F24: =IF(J24="Separated",1,0) -> 0 | G24: =IF(J24="Divorced",1,0) -> 1 | H24: =IF(I24="Direct",1,0) -> 0 | I24: None | J24: Divorced
A25: 3 | B25: 11 | C25: 49 | D25: 2 | E25: =IF(J25="Married",1,0) -> 0 | F25: =IF(J25="Separated",1,0) -> 0 | G25: =IF(J25="Divorced",1,0) -> 1 | H25: =IF(I25="Direct",1,0) -> 0 | I25: None | J25: Divorced
A26: 3 | B26: 12 | C26: 48 | D26: 7 | E26: =IF(J26="Married",1,0) -> 0 | F26: =IF(J26="Separated",1,0) -> 0 | G26: =IF(J26="Divorced",1,0) -> 1 | H26: =IF(I26="Direct",1,0) -> 0 | I26: None | J26: Divorced
A27: 3 | B27: 10 | C27: 45 | D27: 8 | E27: =IF(J27="Married",1,0) -> 0 | F27: =IF(J27="Separated",1,0) -> 0 | G27: =IF(J27="Divorced",1,0) -> 1 | H27: =IF(I27="Direct",1,0) -> 0 | I27: None | J27: Divorced
A28: 3 | B28: 9 | C28: 47 | D28: 9 | E28: =IF(J28="Married",1,0) -> 0 | F28: =IF(J28="Separated",1,0) -> 0 | G28: =IF(J28="Divorced",1,0) -> 1 | H28: =IF(I28="Direct",1,0) -> 0 | I28: None | J28: Divorced
A29: 3 | B29: 9 | C29: 46 | D29: 6 | E29: =IF(J29="Married",1,0) -> 0 | F29: =IF(J29="Separated",1,0) -> 0 | G29: =IF(J29="Divorced",1,0) -> 1 | H29: =IF(I29="Direct",1,0) -> 0 | I29: None | J29: Divorced
... A47: 4 | B47: 9 | C47: 43 | D47: 5 | E47: =IF(J47="Married",1,0) -> 0 | F47: =IF(J47="Separated",1,0) -> 0 | G47: =IF(J47="Divorced",1,0) -> 1 | H47: =IF(I47="Direct",1,0) -> 0 | I47: None | J47: Divorced
A48: 5 | B48: 12 | C48: 28 | D48: 51 | E48: =IF(J48="Married",1,0) -> 0 | F48: =IF(J48="Separated",1,0) -> 0 | G48: =IF(J48="Divorced",1,0) -> 0 | H48: =IF(I48="Direct",1,0) -> 1 | I48: Direct | J48: Single | N48: Part | O48: Grader
A49: 5 | B49: 14 | C49: 32 | D49: 40 | E49: =IF(J49="Married",1,0) -> 0 | F49: =IF(J49="Separated",1,0) -> 0 | G49: =IF(J49="Divorced",1,0) -> 0 | H49: =IF(I49="Direct",1,0) -> 1 | I49: Direct | J49: Single | N49: e
A50: 5 | B50: 14 | C50: 38 | D50: 29 | E50: =IF(J50="Married",1,0) -> 0 | F50: =IF(J50="Separated",1,0) -> 0 | G50: =IF(J50="Divorced",1,0) -> 0 | H50: =IF(I50="Direct",1,0) -> 1 | I50: Direct | J50: Single
A51: 5 | B51: 14 | C51: 36 | D51: 29 | E51: =IF(J51="Married",1,0) -> 0 | F51: =IF(J51="Separated",1,0) -> 0 | G51: =IF(J51="Divorced",1,0) -> 0 | H51: =IF(I51="Direct",1,0) -> 1 | I51: Direct | J51: Single
A52: 5 | B52: 14 | C52: 39 | D52: 29 | E52: =IF(J52="Married",1,0) -> 0 | F52: =IF(J52="Separated",1,0) -> 0 | G52: =IF(J52="Divorced",1,0) -> 0 | H52: =IF(I52="Direct",1,0) -> 1 | I52: Direct | J52: Single
A53: 5 | B53: 13 | C53: 39 | D53: 21 | E53: =IF(J53="Married",1,0) -> 0 | F53: =IF(J53="Separated",1,0) -> 0 | G53: =IF(J53="Divorced",1,0) -> 0 | H53: =IF(I53="Direct",1,0) -> 1 | I53: Direct | J53: Single
A54: 5 | B54: 9 | C54: 48 | D54: 7 | E54: =IF(J54="Married",1,0) -> 1 | F54: =IF(J54="Separated",1,0) -> 0 | G54: =IF(J54="Divorced",1,0) -> 0 | H54: =IF(I54="Direct",1,0) -> 1 | I54: Direct | J54: Married
A55: 5 | B55: 12 | C55: 29 | D55: 24 | E55: =IF(J55="Married",1,0) -> 1 | F55: =IF(J55="Separated",1,0) -> 0 | G55: =IF(J55="Divorced",1,0) -> 0 | H55: =IF(I55="Direct",1,0) -> 1 | I55: Direct | J55: Married
A56: 5 | B56: 13 | C56: 26 | D56: 32 | E56: =IF(J56="Married",1,0) -> 1 | F56: =IF(J56="Separated",1,0) -> 0 | G56: =IF(J56="Divorced",1,0) -> 0 | H56: =IF(I56="Direct",1,0) -> 1 | I56: Direct | J56: Married
A57: 5 | B57: 14 | C57: 30 | D57: 37 | E57: =IF(J57="Married",1,0) -> 0 | F57: =IF(J57="Separated",1,0) -> 1 | G57: =IF(J57="Divorced",1,0) -> 0 | H57: =IF(I57="Direct",1,0) -> 1 | I57: Direct | J57: Separated
...

Sheet Bank
A1: y variable | H1: Question 2:
A2: Salary: current annual salary in thousands of dollars. | H2: Part | I2: Grader
H3: a
A4: x variables | H4: b
A5: YrsExp: years experience with this Bbank | H5: c
A6: YrsPrior: number of years prior work experience at another bank.
A7: Gender: (categorical), 1 = Female, 0 = Male
A8: Bank salary data
A10: Employee | B10: Salary | C10: YrsExp | D10: YrsPrior | F10: Gender
A11: 1 | B11: 32 | C11: 6 | D11: 1 | F11: Male
A12: 2 | B12: 39.1 | C12: 17 | D12: 1 | F12: Female
A13: 3 | B13: 33.2 | C13: 15 | D13: 0 | F13: Female
A14: 4 | B14: 30.6 | C14: 11 | D14: 7 | F14: Female
A15: 5 | B15: 29 | C15: 6 | D15: 0 | F15: Male
A16: 6 | B16: 30.5 | C16: 6 | D16: 0 | F16: Female
A17: 7 | B17: 30 | C17: 7 | D17: 0 | F17: Female
A18: 8 | B18: 27 | C18: 11 | D18: 2 | F18: Male
A19: 9 | B19: 34 | C19: 7 | D19: 0 | F19: Female
A20: 10 | B20: 29.5 | C20: 12 | D20: 0 | F20: Female
A21: 11 | B21: 26.8 | C21: 12 | D21: 2 | F21: Female
A22: 12 | B22: 31.3 | C22: 11 | D22: 8 | F22: Female
... A29: 19 | B29: 32.6 | C29: 8 | D29: 6 | F29: Female
A30: 20 | B30: 29.6 | C30: 7 | D30: 3 | F30: Female | H30: Part | I30: Grader
A31: 21 | B31: 29.5 | C31: 7 | D31: 2 | F31: Female | H31: d
A32: 22 | B32: 31 | C32: 6 | D32: 3 | F32: Male
A33: 23 | B33: 28.5 | C33: 8 | D33: 0 | F33: Female
A34: 24 | B34: 26.7 | C34: 6 | D34: 4 | F34: Male
A35: 25 | B35: 30.75 | C35: 6 | D35: 1 | F35: Male
A36: 26 | B36: 29.5 | C36: 6 | D36: 1 | F36: Male
A37: 27 | B37: 42.2 | C37: 19 | D37: 6 | F37: Female
A38: 28 | B38: 37.6 | C38: 16 | D38: 0 | F38: Female
A39: 29 | B39: 34 | C39: 15 | D39: 6 | F39: Female
A40: 30 | B40: 33 | C40: 7 | D40: 7 | F40: Female
A41: 31 | B41: 28.76 | C41: 10 | D41: 4 | F41: Female
A42: 32 | B42: 35.4 | C42: 14 | D42: 0 | F42: Female
A43: 33 | B43: 31 | C43: 6 | D43: 8 | F43: Male
... A218: 208 | B218: 30 | C218: 36 | D218: 0 | F218: Female

Sheet Builder
A1: Measurements taken on 63 single-family residences | I1: Question 3:
I2: Part
B3: sales price (x $1,000) | C3: square feet | D3: rooms | E3: bedrooms | F3: age | I3: a
A4: Residence | B4: Y | C4: X1 | D4: X2 | E4: X3 | F4: X4
A5: 1 | B5: 53.5 | C5: 1008 | D5: 5 | E5: 2 | F5: 35
A6: 2 | B6: 49 | C6: 1290 | D6: 6 | E6: 3 | F6: 36
A7: 3 | B7: 50.5 | C7: 860 | D7: 8 | E7: 2 | F7: 36
A8: 4 | B8: 49.9 | C8: 912 | D8: 5 | E8: 3 | F8: 41
A9: 5 | B9: 52 | C9: 1204 | D9: 6 | E9: 3 | F9: 40
A10: 6 | B10: 55 | C10: 1204 | D10: 5 | E10: 3 | F10: 10
A11: 7 | B11: 80.5 | C11: 1764 | D11: 8 | E11: 4 | F11: 64
A12: 8 | B12: 86 | C12: 1600 | D12: 7 | E12: 3 | F12: 19
A13: 9 | B13: 69 | C13: 1255 | D13: 5 | E13: 3 | F13: 16
A14: 10 | B14: 149 | C14: 3600 | D14: 10 | E14: 5 | F14: 17
A15: 11 | B15: 46 | C15: 864 | D15: 5 | E15: 3 | F15: 37
A16: 12 | B16: 38 | C16: 720 | D16: 4 | E16: 2 | F16: 41
... A27: 23 | B27: 80 | C27: 1580 | D27: 5 | E27: 3 | F27: 11
A28: 24 | B28: 94 | C28: 1920 | D28: 5 | E28: 3 | F28: 14 | I28: Part
A29: 25 | B29: 74 | C29: 1430 | D29: 9 | E29: 3 | F29: 16 | I29: b
A30: 26 | B30: 69 | C30: 1486 | D30: 6 | E30: 3 | F30: 27
A31: 27 | B31: 63 | C31: 1008 | D31: 5 | E31: 2 | F31: 35
A32: 28 | B32: 67.5 | C32: 1282 | D32: 5 | E32: 3 | F32: 20
A33: 29 | B33: 35 | C33: 1134 | D33: 5 | E33: 2 | F33: 74
A34: 30 | B34: 142.5 | C34: 2400 | D34: 9 | E34: 4 | F34: 15
A35: 31 | B35: 92.2 | C35: 1701 | D35: 5 | E35: 3 | F35: 15
A36: 32 | B36: 56 | C36: 1020 | D36: 6 | E36: 3 | F36: 16
A37: 33 | B37: 63 | C37: 1053 | D37: 5 | E37: 2 | F37: 24
A38: 34 | B38: 60 | C38: 1728 | D38: 6 | E38: 3 | F38: 26
A39: 35 | B39: 34 | C39: 416 | D39: 3 | E39: 1 | F39: 42
A40: 36 | B40: 52 | C40: 1040 | D40: 5 | E40: 2 | F40: 9
A41: 37 | B41: 75 | C41: 1496 | D41: 6 | E41: 3 | F41: 30
... A67: 63 | B67: 55 | C67: 1130 | D67: 5 | E67: 2 | F67: 21

Sheet Sales
A1: Sales | B1: Time | C1: Poten | D1: AdvExp | E1: Share | F1: Change | G1: Accounts | H1: Work | I1: Rating | K1: Question 4:
A2: 3669.88 | B2: 43.1 | C2: 74065.1 | D2: 4582.9 | E2: 2.51 | F2: 0.34 | G2: 74.86 | H2: 15.05 | I2: 4.9 | K2: Part
A3: 3473.95 | B3: 108.13 | C3: 58117.3 | D3: 5539.8 | E3: 5.51 | F3: 0.15 | G3: 107.32 | H3: 19.97 | I3: 5.1 | K3: a
A4: 2295.1 | B4: 13.82 | C4: 21118.5 | D4: 2950.4 | E4: 10.91 | F4: -0.72 | G4: 96.75 | H4: 17.34 | I4: 2.9
A5: 4675.56 | B5: 186.18 | C5: 68521.3 | D5: 2243.1 | E5: 8.27 | F5: 0.17 | G5: 195.12 | H5: 13.4 | I5: 3.4
A6: 6125.96 | B6: 161.79 | C6: 57805.1 | D6: 7747.1 | E6: 9.15 | F6: 0.5 | G6: 180.44 | H6: 17.64 | I6: 4.6
A7: 2134.94 | B7: 8.94 | C7: 37806.9 | D7: 402.4 | E7: 5.51 | F7: 0.15 | G7: 104.88 | H7: 16.22 | I7: 4.5
A8: 5031.66 | B8: 365.04 | C8: 50935.3 | D8: 3140.6 | E8: 8.54 | F8: 0.55 | G8: 256.1 | H8: 18.8 | I8: 4.6
A9: 3367.45 | B9: 220.32 | C9: 35602.1 | D9: 2086.2 | E9: 7.07 | F9: -0.49 | G9: 126.83 | H9: 19.86 | I9: 2.3
A10: 6519.45 | B10: 127.64 | C10: 46176.8 | D10: 8846.2 | E10: 12.54 | F10: 1.24 | G10: 203.25 | H10: 17.42 | I10: 4.9
A11: 4876.37 | B11: 105.69 | C11: 42053.2 | D11: 5673.1 | E11: 8.85 | F11: 0.31 | G11: 119.51 | H11: 21.41 | I11: 2.8
A12: 2468.27 | B12: 57.72 | C12: 36829.7 | D12: 2761.8 | E12: 5.38 | F12: 0.37 | G12: 116.26 | H12: 16.32 | I12: 3.1
A13: 2533.31 | B13: 23.58 | C13: 33612.7 | D13: 1991.8 | E13: 5.43 | F13: -0.65 | G13: 142.28 | H13: 14.51 | I13: 4.2 | K13: Part
A14: 2408.11 | B14: 13.82 | C14: 21412.8 | D14: 1971.5 | E14: 8.48 | F14: 0.64 | G14: 89.43 | H14: 19.35 | I14: 4.3 | K14: b
A15: 2337.38 | B15: 13.82 | C15: 20416.9 | D15: 1737.4 | E15: 7.8 | F15: 1.01 | G15: 84.55 | H15: 20.02 | I15: 4.2
A16: 4586.95 | B16: 86.99 | C16: 36272 | D16: 10694.2 | E16: 10.34 | F16: 0.11 | G16: 119.51 | H16: 15.26 | I16: 5.5
A17: 2729.24 | B17: 165.85 | C17: 23093.3 | D17: 8618.6 | E17: 5.15 | F17: 0.04 | G17: 80.49 | H17: 15.87 | I17: 3.6
A18: 3289.4 | B18: 116.26 | C18: 26878.6 | D18: 7747.9 | E18: 6.64 | F18: 0.68 | G18: 136.58 | H18: 7.81 | I18: 3.4
A19: 2800.78 | B19: 42.28 | C19: 39572 | D19: 4565.8 | E19: 5.45 | F19: 0.66 | G19: 78.86 | H19: 16 | I19: 4.2
A20: 3264.2 | B20: 52.84 | C20: 51866.1 | D20: 6022.7 | E20: 6.31 | F20: -0.1 | G20: 136.58 | H20: 17.44 | I20: 3.6
A21: 3453.62 | B21: 165.04 | C21: 58749.8 | D21: 3721.1 | E21: 6.35 | F21: -0.03 | G21: 138.21 | H21: 17.98 | I21: 3.1
A22: 1741.45 | B22: 10.57 | C22: 23990.8 | D22: 861 | E22: 7.37 | F22: -1.63 | G22: 75.61 | H22: 20.99 | I22: 1.6
A23: 2035.75 | B23: 13.82 | C23: 25694.9 | D23: 3571.5 | E23: 8.39 | F23: -0.43 | G23: 102.44 | H23: 21.66 | I23: 3.4
A24: 1578 | B24: 8.13 | C24: 23736.3 | D24: 2845.5 | E24: 5.15 | F24: 0.04 | G24: 76.42 | H24: 21.46 | I24: 2.7 | K24: Part
A25: 4167.44 | B25: 58.44 | C25: 34314.3 | D25: 5060.1 | E25: 12.88 | F25: 0.22 | G25: 136.58 | H25: 24.78 | I25: 2.8 | K25: c
A26: 2799.97 | B26: 21.14 | C26: 22809.5 | D26: 3552 | E26: 9.14 | F26: -0.74 | G26: 88.62 | H26: 24.96 | I26: 3.9
K35: Part
K36: d

Sheet Car
A1: Car | B1: Size | C1: Price ($) | D1: Cost/Mile | E1: Road-Test Score | F1: Predicted Reliability | G1: Value Score | K1: Part
A2: Toyota Corolla (base, manual) | B2: Small Sedan | C2: 16419 | D2: 0.44 | E2: 70 | F2: 4 | G2: 1.99 | K2: a
A3: Mazda3 i Touring (manual) | B3: Small Sedan | C3: 18895 | D3: 0.5 | E3: 74 | F3: 5 | G3: 1.94
A4: Toyota Corolla LE | B4: Small Sedan | C4: 18404 | D4: 0.47 | E4: 71 | F4: 4 | G4: 1.89
A5: Mazda3 i Touring | B5: Small Sedan | C5: 19745 | D5: 0.52 | E5: 70 | F5: 5 | G5: 1.82
A6: Hyundai Elantra GLS | B6: Small Sedan | C6: 18445 | D6: 0.53 | E6: 80 | F6: 3 | G6: 1.64
A7: Nissan Sentra 2.0 SL | B7: Small Sedan | C7: 20150 | D7: 0.57 | E7: 74 | F7: 4 | G7: 1.51
A8: Kia Forte Sedan EX | B8: Small Sedan | C8: 19040 | D8: 0.57 | E8: 71 | F8: 3 | G8: 1.32
A9: Ford Focus SE | B9: Small Sedan | C9: 20280 | D9: 0.52 | E9: 68 | F9: 2 | G9: 1.3
A10: Ford Fiesta SE | B10: Small Sedan | C10: 16595 | D10: 0.47 | E10: 61 | F10: 2 | G10: 1.25
A11: Volkswagen Jetta SE (2.5) | B11: Small Sedan | C11: 20300 | D11: 0.54 | E11: 60 | F11: 3 | G11: 1.24
A12: Volkswagen Jetta TDI | B12: Small Sedan | C12: 25100 | D12: 0.5 | E12: 68 | F12: 2 | G12: 1.18
A13: Chevrolet Cruze LS (1.8) | B13: Small Sedan | C13: 18375 | D13: 0.57 | E13: 67 | F13: 1 | G13: 0.96
A14: Chevrolet Cruze 1LT (1.4T) | B14: Small Sedan | C14: 20530 | D14: 0.6 | E14: 69 | F14: 1 | G14: 0.91
... A23: Chevrolet Malibu LT (4-cyl.) | B23: Family Sedan | C23: 24115 | D23: 0.57 | E23: 74 | F23: 3 | G23: 1.48
A24: Kia Optima SX (2.0T) | B24: Family Sedan | C24: 29050 | D24: 0.72 | E24: 84 | F24: 4 | G24: 1.43 | K24: Part
A25: Ford Fusion SEL (V6) | B25: Family Sedan | C25: 28400 | D25: 0.67 | E25: 80 | F25: 4 | G25: 1.42 | K25: b
A26: Nissan Altima 3.5 SR (V6) | B26: Family Sedan | C26: 30335 | D26: 0.69 | E26: 93 | F26: 4 | G26: 1.42
A27: Hyundai Sonata Limited (2.0T) | B27: Family Sedan | C27: 28090 | D27: 0.66 | E27: 89 | F27: 3 | G27: 1.39
A28: Honda Accord EX-L (V6) | B28: Family Sedan | C28: 28695 | D28: 0.67 | E28: 90 | F28: 3 | G28: 1.36
A29: Mazda6 s Grand Touring (V6) | B29: Family Sedan | C29: 30790 | D29: 0.74 | E29: 81 | F29: 4 | G29: 1.34
A30: Ford Fusion SEL (V6, AWD) | B30: Family Sedan | C30: 30055 | D30: 0.71 | E30: 75 | F30: 4 | G30: 1.32
A31: Subaru Legacy 3.6R Limited | B31: Family Sedan | C31: 30094 | D31: 0.71 | E31: 88 | F31: 3 | G31: 1.29
A32: Chevrolet Malibu LTZ (V6) | B32: Family Sedan | C32: 28045 | D32: 0.67 | E32: 83 | F32: 3 | G32: 1.2
A33: Chrysler 200 Limited (V6) | B33: Family Sedan | C33: 27825 | D33: 0.7 | E33: 52 | F33: 5 | G33: 1.2
A34: Chevrolet Impala LT (3.6) | B34: Family Sedan | C34: 28995 | D34: 0.67 | E34: 63 | F34: 3 | G34: 1.05
A35: Lexus ES 350 | B35: Upscale Sedan | C35: 38615 | D35: 0.77 | E35: 91 | F35: 5 | G35: 1.45
A36: Acura TL (base) | B36: Upscale Sedan | C36: 36465 | D36: 0.75 | E36: 82 | F36: 5 | G36: 1.41
A37: Lexus IS 250 | B37: Upscale Sedan | C37: 33734 | D37: 0.75 | E37: 84 | F37: 5 | G37: 1.4
... A48: BMW 328i | B48: Upscale Sedan | C48: 39175 | D48: 0.79 | E48: 77 | F48: 3 | G48: 1.1
A49: Audi A4 Premium Quattro | B49: Upscale Sedan | C49: 35895 | D49: 0.76 | E49: 76 | F49: 3 | G49: 1.08 | K49: Part
A50: Ford Taurus Limited | B50: Upscale Sedan | C50: 34980 | D50: 0.78 | E50: 73 | F50: 3 | G50: 1.07 | K50: c
A51: Buick Regal CXL (turbo) | B51: Upscale Sedan | C51: 32135 | D51: 0.71 | E51: 79 | F51: 2 | G51: 1.06 | K51: Smallest
A52: Mercedes-Benz C300 Sport | B52: Upscale Sedan | C52: 37325 | D52: 0.83 | E52: 77 | F52: 3 | G52: 1.04 | K52: Largest
A53: Volkswagen CC Luxury (2.0T) | B53: Upscale Sedan | C53: 32680 | D53: 0.73 | E53: 82 | F53: 2 | G53: 1.04
A54: Saab 9-3 2.0T | B54: Upscale Sedan | C54: 31615 | D54: 0.7 | E54: 69 | F54: 3 | G54: 1
A55: Buick LaCrosse CXS (V6) | B55: Upscale Sedan | C55: 37555 | D55: 0.81 | E55: 74 | F55: 2 | G55: 0.82
K59: Part
K60: d
K91: Part
...

Sheet _STDS_DG3209D225
A1: Name | B1: SelfEsteem | C1: StatTools Version that generated sheet, Major | D1: 6 | E1: StatTools Version that generated sheet, Minor | F1: 1 | G1: StatTools Version that generated sheet, Revision | H1: 2 | I1: Min. StatTools Version to Read Sheet, Major (note ST versions before 1.1.1 don't perform forward compatibility check) | J1: 1 | K1: Min. StatTools Version to Read Sheet, Minor | L1: 0 | M1: Min. StatTools Version to Read Sheet, Revision | N1: 0 | O1: Min. StatTools version to not put up warning about extra info, Major | P1: 1 | Q1: Min. StatTools version to not put up warning about extra info, Minor | R1: 0 | S1: Min. StatTools version to not put up warning about extra info, Revision | T1: 0
A2: GUID | B2: DG3209D225
A3: Format Range | B3: =IF(B10>256,"TripUpST110AndEarlier",FALSE) -> FALSE
A4: Variable Layout | B4: Columns
A5: Variable Names In Cells | B5: TRUE
A6: Variable Names In 2nd Cells | B6: TRUE
A7: Data Set Ranges | B7: ='Self Esteem'!$A$2:$H$62 -> 12
A8: Data Sheet Format | B8: 1
A9: Formula Eval Cell | B9: =1 -> 1
A10: Num Stored Vars | B10: 8
A12: 1 : Info | B12: VG20B96C85D379B1A | C12: var1 | D12: ST_SelfEsteem | E12: TRUE | F12: 0 | G12: 4
A13: 1 : Ranges | B13: ='Self Esteem'!$A$2:$A$62 -> 3
A14: 1 : MultiRefs
A15: 2 : Info | B15: VG332891741926E07B | C15: var2 | D15: ST_YrsEdu | E15: TRUE | F15: 0 | G15: 4
A16: 2 : Ranges | B16: ='Self Esteem'!$B$2:$B$62 -> 10
A17: 2 : MultiRefs
A18: 3 : Info | B18: VG3B832608181446DB | C18: var3 | D18: ST_Age | E18: TRUE | F18: 0 | G18: 4
A19: 3 : Ranges | B19: ='Self Esteem'!$C$2:$C$62 -> 37
A20: 3 : MultiRefs
A21: 4 : Info | B21: VG39D1A9D3158A8AF9 | C21: var4 | D21: ST_MonWork | E21: TRUE | F21: 0 | G21: 4
A22: 4 : Ranges | B22: ='Self Esteem'!$D$2:$D$62 -> 4
A23: 4 : MultiRefs
A24: 5 : Info | B24: VG2421FE3E20F08BB0 | C24: var5 | D24: ST_MS2 | E24: TRUE | F24: 0 | G24: 4
A25: 5 : Ranges | B25: ='Self Esteem'!$E$2:$E$62 -> 0
A26: 5 : MultiRefs
A27: 6 : Info | B27: VG3328C7793842EA1F | C27: var6 | D27: ST_MS3 | E27: TRUE | F27: 0 | G27: 4
A28: 6 : Ranges | B28: ='Self Esteem'!$F$2:$F$62 -> 0
A29: 6 : MultiRefs
A30: 7 : Info | B30: VG15DBFF0D3B6B08FF | C30: var7 | D30: ST_MS4 | E30: TRUE | F30: 0 | G30: 4
A31: 7 : Ranges | B31: ='Self Esteem'!$G$2:$G$62 -> 1
A32: 7 : MultiRefs
A33: 8 : Info | B33: VG23A682D32D1E64BF | C33: var8 | D33: ST_SL | E33: TRUE | F33: 0 | G33: 4
A34: 8 : Ranges | B34: ='Self Esteem'!$H$2:$H$62 -> 1
A35: 8 : MultiRefs

Sheet _STDS_DG4C7139F
A1: Name | B1: Bank | C1: StatTools Version that generated sheet, Major | D1: 6 | E1: StatTools Version that generated sheet, Minor | F1: 1 | G1: StatTools Version that generated sheet, Revision | H1: 2 | I1: Min. StatTools Version to Read Sheet, Major (note ST versions before 1.1.1 don't perform forward compatibility check) | J1: 1 | K1: Min. StatTools Version to Read Sheet, Minor | L1: 0 | M1: Min. StatTools Version to Read Sheet, Revision | N1: 0 | O1: Min. StatTools version to not put up warning about extra info, Major | P1: 1 | Q1: Min. StatTools version to not put up warning about extra info, Minor | R1: 0 | S1: Min. StatTools version to not put up warning about extra info, Revision | T1: 0
A2: GUID | B2: DG4C7139F
A3: Format Range | B3: =IF(B10>256,"TripUpST110AndEarlier",FALSE) -> FALSE
A4: Variable Layout | B4: Columns
A5: Variable Names In Cells | B5: TRUE
A6: Variable Names In 2nd Cells | B6: TRUE
A7: Data Set Ranges | B7: =Bank!$A$10:$F$218 -> #VALUE!
A8: Data Sheet Format | B8: 1
A9: Formula Eval Cell | B9: =1 -> 1
A10: Num Stored Vars | B10: 6
A12: 1 : Info | B12: VG26ACC8711EB90D84 | C12: var1 | D12: ST_Employee | E12: TRUE | F12: 0 | G12: 4
A13: 1 : Ranges | B13: =Bank!$A$10:$A$218 -> 3
A14: 1 : MultiRefs
A15: 2 : Info | B15: VG25DAF4153000BFE1 | C15: var2 | D15: ST_Salary | E15: TRUE | F15: 0 | G15: 4
A16: 2 : Ranges | B16: =Bank!$B$10:$B$218 -> 30.5
A17: 2 : MultiRefs
A18: 3 : Info | B18: VG2668C55DFD18028 | C18: var3 | D18: ST_YrsExp | E18: TRUE | F18: 0 | G18: 4
A19: 3 : Ranges | B19: =Bank!$C$10:$C$218 -> 7
A20: 3 : MultiRefs
A21: 4 : Info | B21: VG195D7E6D2191048F | C21: var4 | D21: ST_YrsPrior | E21: TRUE | F21: 0 | G21: 4
A22: 4 : Ranges | B22: =Bank!$D$10:$D$218 -> 8
A23: 4 : MultiRefs
A24: 5 : Info | B24: VGDEBD6B098D6E9C | C24: var5 | D24: ST_Bank | E24: TRUE | F24: 0 | G24: 4
A25: 5 : Ranges | B25: =Bank!$E$10:$E$218 -> 0
A26: 5 : MultiRefs
A27: 6 : Info | B27: VG3B0C4C113FD9BC | C27: var6 | D27: ST_Gender | E27: TRUE | F27: 0 | G27: 4
A28: 6 : Ranges | B28: =Bank!$F$10:$F$218 -> Female
A29: 6 : MultiRefs
