Workbook
Name MainMenu: 'Main Menu'!$C$1
Name Worksheet: 'Worksheet June 2013'!$C$4

Sheet Audit
A1: User Name | B1: Computer Name | C1: Open Time | D1: Close Time | E1: Open WB Name | F1: Close WB Name
A2: Andrew | B2: ANDREW-PC | C2: 41647.518 | D2: 41647.816 | E2: C:\Users\Andrew\AppData\Local\Temp\ACCT202ProjectSolutionNEW-2.xlsm | F2: C:\Users\Andrew\Desktop\ACCT202ProjectSolutionNEW-2 Combined.xlsm
A3: tbergsma | B3: LTFACDDTBERGSMA | C3: 41648.512 | D3: 41648.594 | E3: D:\Users\tbergsma\Downloads\ACCT202ProjectSolutionNEW-2 Combined.xlsm | F3: D:\Users\tbergsma\Dropbox\ACCT202 PS W14\ACCT202ProjectSolutionNEW-2 Combined_Rev1.xlsm
A4: Tim | B4: PCTIMBASEMENT | C4: 41649.681 | D4: 41650.71 | E4: C:\Users\Tim\Dropbox\ACCT202 PS W14\ACCT202ProjectSolutionNEW-2 Combined_Rev1.xlsm | F4: C:\Users\Tim\Dropbox\ACCT202 PS W14\ACCT202_PracticeSet_W14_Solution.xlsm
A5: Tim | B5: PCTIMBASEMENT | C5: 41650.681 | D5: 41654.661 | E5: C:\Users\Tim\Dropbox\ACCT202 PS W14\ACCT202_PracticeSet_W14_Solution.xlsm | F5: d:\Users\tbergsma\Dropbox\ACCT202 PS W14\ACCT202_PracticeSet_W14_Solution.xlsm
A6: tbergsma | B6: LTFACDDTBERGSMA | C6: 41654.619 | D6: 41654.674 | E6: d:\Users\tbergsma\Dropbox\ACCT202 PS W14\ACCT202_PracticeSet_W14_Solution.xlsm | F6: d:\Users\tbergsma\Dropbox\ACCT202 PS W14\ACCT202_PracticeSet_W14_Solution.xlsm
A7: tbergsma | B7: LTFACDDTBERGSMA | C7: 41654.628 | D7: 41681.748 | E7: d:\Users\tbergsma\Dropbox\ACCT202 PS W14\ACCT202_PracticeSet_W14_Solution.xlsm | F7: d:\Users\tbergsma\Dropbox\ACCT202 PS W14\ACCT202_PracticeSet_W14_Solution.xlsm
A8: tbergsma | B8: LTFACDDTBERGSMA | C8: 41654.662 | D8: 41682.489 | E8: d:\Users\tbergsma\Dropbox\ACCT202 PS W14\ACCT202_PracticeSet_W14_Solution.xlsm | F8: d:\Users\tbergsma\Dropbox\ACCT202 PS W14\ACCT202_PracticeSet_W14_Solution.xlsm
A9: tbergsma | B9: LTFACDDTBERGSMA | C9: 41654.662 | D9: 41682.671 | E9: d:\Users\tbergsma\Dropbox\ACCT202 PS W14\ACCT202_PracticeSet_W14_Solution.xlsm | F9: d:\Users\tbergsma\Dropbox\ACCT202 PS W14\ACCT202_PracticeSet_W14_Solution.xlsm
A10: tbergsma | B10: LTFACDDTBERGSMA | C10: 41681.724 | D10: 41691.44 | E10: d:\Users\tbergsma\Dropbox\ACCT202 PS W14\ACCT202_PracticeSet_W14_Solution.xlsm | F10: C:\Users\Tim\Dropbox\ACCT202 PS W14\ACCT202_PracticeSet_W14_Solution.xlsm
A11: tbergsma | B11: LTFACDDTBERGSMA | C11: 41682.357 | D11: 41885.485 | E11: d:\Users\tbergsma\Dropbox\ACCT202 PS W14\ACCT202_PracticeSet_W14_Solution.xlsm | F11: https://d.docs.live.net/213637fca0d9e955/Documents/DU Teaching/ACCT202PS/ACCT202 PS F14/ACCT202_PracticeSet_F14_Solution.xlsm
A12: tbergsma | B12: LTFACDDTBERGSMA | C12: 41682.646 | D12: 41885.652 | E12: d:\Users\tbergsma\Dropbox\ACCT202 PS W14\ACCT202_PracticeSet_W14_Solution.xlsm | F12: d:\Users\tbergsma\OneDrive\Documents\DU Teaching\ACCT202PS\ACCT202 PS F14\ACCT202_PracticeSet_F14_Solution.xlsm
A13: Tim | B13: PCTIMBASEMENT | C13: 41691.413 | D13: 41886.571 | E13: C:\Users\Tim\Dropbox\ACCT202 PS W14\ACCT202_PracticeSet_W14_Solution.xlsm | F13: https://d.docs.live.net/213637fca0d9e955/Documents/DU Teaching/ACCT202PS/ACCT202 PS F14/ACCT202_PracticeSet_F14_StudentFile_DU.xlsm
A14: tbergsma | B14: LTFACDDTBERGSMA | C14: 41885.404 | D14: 41886.571 | E14: d:\Users\tbergsma\OneDrive\Documents\DU Teaching\ACCT202PS\ACCT202 PS W14\ACCT202_PracticeSet_W14_Solution.xlsm | F14: https://d.docs.live.net/213637fca0d9e955/Documents/DU Teaching/ACCT202PS/ACCT202 PS F14/ACCT202_PracticeSet_F14_StudentFile_DU.xlsm
A15: tbergsma | B15: LTFACDDTBERGSMA | C15: 41885.61 | E15: d:\Users\tbergsma\OneDrive\Documents\DU Teaching\ACCT202PS\ACCT202 PS F14\ACCT202_PracticeSet_F14_Solution.xlsm
A16: tbergsma | B16: LTFACDDTBERGSMA | C16: 41886.527 | E16: d:\Users\tbergsma\OneDrive\Documents\DU Teaching\ACCT202PS\ACCT202 PS F14\ACCT202_PracticeSet_F14_Solution.xlsm
A17: tbergsma | B17: LTFACDDTBERGSMA | C17: 41886.571 | E17: https://d.docs.live.net/213637fca0d9e955/Documents/DU Teaching/ACCT202PS/ACCT202 PS F14/ACCT202_PracticeSet_F14_StudentFile_DU.xlsm

Sheet Main Menu
O2: Davenport University
O3: ACCT202 Practice Set
O4: Fall: 2014
O5: Student File
A10: Student Name:
A11: CRN:
A12: Professor:

Sheet Instructions
A1: Company Background & Scenario
A2: The AC Speed Company is a well-established, publicly-held corporation, operating as a wholesaler in the auto parts industry. Specifically, AC Speed purchases auto parts from manufacturers and sells them to large business customers. Most purchases and sales are on account, with trade credit terms (specified below).
A3: You’re a Davenport University student pursuing a bachelor’s degree in business and employed at the AC Speed Company this semester as an intern. You’ve worked in various departments and on several projects so far, learning a lot about the company’s business operations. Management seems impressed with your enthusiasm and the quality of your work.
A4: The company’s accountant has just been called away for a family emergency and will likely be absent for a month or so. The General Manager asks you to take over the accountant’s regular duties on an interim basis. You’re nervous about doing so, but are confident that what you’ve learned in accounting class, plus your personal problem-solving skills, will make this a successful experience. What a great learning opportunity, not to mention an enhancement to your resume!
A5: Project Overview & Instructions
A6: A. Overview
A7: a. Part 1 is a financial accounting activity that requires you to record various business transactions during the month, close the accounting records at the end of the month, and prepare the financial statements. These tasks relate to the steps in the accounting cycle that you learned in your first accounting course.`
A8: b. Part 2 is an activity that requires you to analyze the company’s year-end financial statements to assist management in assessing the company’s position and making decisions about its future direction.
A9: c. This is an individual, not a team, project. While you may discuss this project with others, you must prepare and submit your own work. Refer to the academic integrity statement in the project workbook.
A10: d. Before starting work, review the entire project: all instructions, business transactions descriptions, workbook sections, check figures, due dates, and submission requirements.
A11: B. General Instructions
A12: a. The parts of this project, including specific business transactions and steps in the accounting cycle, must be completed in sequence. This is particularly important with business transactions relating to purchases and sales of inventory.
... A51: d. Use Word to prepare a memo (minimum 500 words) to AC Speed’s general manager, addressing the three questions listed at the bottom of the ratios tab. This should be formatted as a business memo, not an APA paper. Be sure to include a brief introduction and conclusion in the memo. Each question should be addressed in one or two paragraphs in the body of the memo. Remember that the general manager will expect details/facts/ratios to support statements you may make about the status of the business. Your writing should be concise, clear, and readable, with a fairly formal tone (since it’s addressed to AC Speed’s general manager, who is likely to share it with other members of management). Your instructor will provide the due date and submission requirements for this part of the project.

Sheet Academic Integrity
C3: Project Academic Integrity Statement
B5: I understand that this is an individual, not a team, project; that I am expected to do my own work on the project. I may discuss project requirements in general terms with others, but I am not permitted to collaborate with anyone or copy anyone's work, manually or electronically, in full or in part.
B7: I also understand that I am not permitted to supply anyone with the results of my work or to provide them with any assistance that compromises another student's completion of the project through his or her own efforts.
B9: If I have any questions about these requirements, I will promptly ask my instructor for clarification
B11: I understand that any violation of this project academic integrity statement will lead, at minimum, to a failing grade for the project.
B13: By entering my name and student ID number below, I am attesting that I have read, understood, and will personally adhere to this project's academic integrity statement.
B15: Student Name:
B17: Student ID Number:
B19: Date:
H30: =TODAY() -> 41932

Sheet Transactions
A4: JUNE JOURNAL TRANSACTIONS
A6: June 1 | B6: =Data!AA2 -> Signed a 3 year 7.1% , $210000 note payable with First Bank.
A8: June 1 | B8: =Data!AA3 -> Purchased 3100 GPS units on credit from Navistar for $35.5 per unit.
A10: June 1 | B10: Issued 5,000 shares of common stock for $10 per share (Refer to General ledger for description of common stock).
A12: June 1 | B12: =Data!AA4 -> Sold 1983 DVD players on account to Toyota for $75 per unit, Invoice #5555
A14: June 2 | B14: =Data!AA6 -> Sold 3400 GPS units on account to Kia for $58 per unit, Invoice #5556.
A16: June 2 | B16: =Data!AA5 -> Purchased office supplies from Office Max on credit for $1150
A18: June 2 | B18: =Data!AA7 -> Sold 975 docking stations for $66 per unit and 1925 GPS units for $82 per unit on account to Nissan, Invoice #5557.
A20: June 3 | B20: The Board of Directors declared a cash dividend of $5 per share for shareholders of record on June 5th, payable on June 12th.
A22: June 4 | B22: =Data!AA9 -> Received payment from Toyota for May 11th sale.
A24: June 4 | B24: ='Data - ADJ JE'!E3 -> Rented part of the warehouse to a new tenant and received $5400 for three months rent starting in June
A26: June 5 | B26: Paid $2,100 to Michigan Utility Co. for utilities bill that was recorded in May as an Account Payable, Check #5278.
A28: June 7 | B28: =Data!AA10 -> Received and paid expense reports for travel and entertainment totaling $900 , Check #5279.
A30: June 8 | B30: =Data!AA11 -> Paid for office supplies purchased on June 2nd, Check #5280.
A32: June 11 | B32: =Data!AA12 -> Paid in full for the June 1 purchase from Navistar, Check #5281.
A34: June 11 | B34: =Data!AA13 -> Received a bill from the law firm of Larry, Moe & Curly for $5400 , payable upon receipt, for bond consulting fees, Check #5282.
A36: June 12 | B36: Paid the dividend that was declared on June 3, Check #5283.
A38: June 13 | B38: =Data!AA14 -> Took advantage of a special deal to purchase 3250 DVD players on account from JVC for $48 per unit.
A40: June 13 | B40: =Data!AA15 -> Purchased 850 GPS units on credit from Magellan for $33 per unit.
A42: June 15 | B42: =Data!AA18 -> Sold 2000 DVD players on credit to Ford Motor Co. for $89 per unit, Invoice 5558.
A44: June 15 | B44: =Data!AA16 -> Check # 5284 was issued for payroll: $14500 for salaried and $4750 for wages (wage expense)
A46: June 16 | B46: =Data!AA19 -> Purchased 1800 docking stations on credit from Samsung for $42 per unit.
A48: June 17 | B48: Issued a credit to Kia for the return of 350 defective units from the June 2nd sale. These units has a cost basis of $36 per unit.
A50: June 17 | B50: Returned the 350 defective units received from Kia to Navistar.
A52: June 18 | B52: =Data!AA20 -> Received payment in full from Toyota for the June 1st sale.
A54: June 20 | B54: While inspecting the June 13th purchase, it was discovered that the GPS units were programmed for South America instead of North America. AC Speed returned the entire order to Magellan.
A56: June 20 | B56: A bankruptcy judge disallowed AC Speed's claim for $5,000 due from General Motors. Management Decided to write off this accounts receivable.
A58: June 22 | B58: =Data!AA21 -> Sold 1650 docking stations on credit to Kia for 64.5 per unit, Invoice #5559.
A60: June 23 | B60: =Data!AA22 -> Paid $75000 of the $162500 owed to JVC from May 25, Check #5285.
A62: June 23 | B62: =Data!AA23 -> Received payment from Ford Motor Co. for $175000 of the $300000 owed from May 5.
A64: June 24 | B64: =Data!AA24 -> Purchased a $100 international phone card for one of the sales representative's upcoming European business trip, Check #5286.
A66: June 25 | B66: =Data!AA25 -> Paid in full for the purchase from JVC on June 13, Check #5287
A68: June 26 | B68: =Data!AA26 -> Purchased 1250 docking station from Samsung for $41 per unit paying in cash, Check #5288
A70: June 27 | B70: =Data!AA27 -> Sold 1500 docking stations on credit to Honda for $61 per unit, Invoice 5560.
A72: June 27 | B72: =Data!AA28 -> Hired and paid a consultant $75000 to devise a marketing plan. AC Speed's management felt this was necessary to develop brand awareness. Check #5289.
A74: June 28 | B74: =Data!AA29 -> AC Speed is behind in its mortgage payments to Bank of America. Paid a total of $10000 ( $2000 principal and $8000 interest), Check #5290.
A76: June 29 | B76: =Data!AA30 -> Received payment in full from Honda for the June 27th transaction.
A78: June 29 | B78: =Data!AA31 -> Paid in full for the purchase from Magellan on May 31st, Check #5291.
A80: June 29 | B80: =Data!AA32 -> Check # 5292 was issued for payroll: $14500 for salaried and $4750 for wages (wage expense)
A82: June 30 | B82: Paid the first month's principal payment of $15,000 on the note payable. In addition, paid one month's interest, Check #5293
...

Sheet Products
A1: Product Name | B1: Description
A2: GPS | B2: In vehicle GPS unit
A3: DVD Player | B3: In vehicle DVD player
A4: Docking Station | B4: Cell phone / Mobile Communications Docking Station

Sheet Chart of Accounts GL
A1: AC Speed Corporation
A2: Chart of Accounts - General Ledger
A4: BALANCE SHEET ACCOUNTS
A5: Assets
A6: Current Assets
A8: Acct # | B8: Account Name
A9: 100 | B9: Cash
A10: 102 | B10: Accounts Receivable
A11: 103 | B11: Allowance for Doubtful Accounts
A12: 104 | B12: Merchandise Inventory
A13: 105 | B13: Office Supplies
A14: 106 | B14: Prepaid Insurance
A15: Property, Plant and Equipment
A16: 140 | B16: Land
A17: 145 | B17: Building
A18: 146 | B18: Accumulated Depreciation - Building
A19: 151 | B19: Equipment & Furniture - Warehouse
A20: 152 | B20: Accumulated Depreciation - Equip & Furn. - Warehouse
A21: 153 | B21: Equipment & Furniture - Office
A22: 154 | B22: Accumulated Depreciation - Equip & Furn. - Office
A23: Liabilities
A24: Current Liabilities
A26: 201 | B26: Accounts Payable
A27: 202 | B27: Wages Payable
A28: 203 | B28: Interest Payable
A29: 204 | B29: Dividends Payable
A30: 205 | B30: Unearned Rent
A31: Long-Term Liabilities
A32: 250 | B32: Notes Payable
A33: 251 | B33: Bonds Payable
A34: 252 | B34: Mortgage (Warehouse) Payable
A35: Capital (Equity)
A36: 300 | B36: Common Stock, $1 Par, 100,000 Authorized; 60,000 shares Issued/Outstanding
A37: 301 | B37: Paid In Capital - Excess of Par
A38: 330 | B38: Retained Earnings
A39: 340 | B39: Treasury Stock
A40: INCOME STATEMENT ACCOUNTS
A41: Revenue
A42: 500 | B42: Sales
A43: 510 | B43: Sales Discounts
...

Sheet Chart of Accounts AR Ledger
B1: ='Chart of Accounts GL'!A1 -> AC Speed Corporation
A2: Chart of Accounts - Accounts Receivable Ledger
B4: Account Name
B5: General Motors
B6: Ford Motor Co.
B7: Toyota
B8: Honda
B9: Kia
B10: Nissan

Sheet Chart of Accounts AP Ledger
A1: ='Chart of Accounts GL'!A1 -> AC Speed Corporation
A2: Chart of Accounts - Accounts Payable Ledger
B4: Account Name
B6: Garmin
B7: JVC
B8: Magellan
B9: Michigan Utility Company
B10: Motorola
B11: Navistar
B12: Office Max
B13: Samsung

Sheet Sales Journal
A1: ='Chart of Accounts GL'!A1 -> AC Speed Corporation
A2: Sales Journal
A4: Date | B4: Invoice No. | C4: A/R Account Debited | D4: Post Ref | E4: A/R - DR Sales - CR | F4: CGS - DR Inv - CR

Sheet Purchases Journal
A1: ='Chart of Accounts GL'!A1 -> AC Speed Corporation
A2: Purchases Journal
A4: Date | B4: Creditors Account Credited | C4: Other Account - Debited | D4: Post Ref | E4: A/P - CR | F4: Inventory - DR | G4: Office Supplies - DR | H4: Other - DR

Sheet Cash Receipts Journal
A1: ='Chart of Accounts GL'!A1 -> AC Speed Corporation
A2: Cash Receipts Journal
A4: Date | B4: Acct - CR Customer Acct Other Acct | C4: Post Ref | D4: Sales - CR | E4: A/R - CR | F4: Other - CR | G4: Sale Discount - DR | H4: Cash - DR | I4: CGS - DR Inv - CR

Sheet Cash Payments Journal
A1: ='Chart of Accounts GL'!A1 -> AC Speed Corporation
A2: Cash Payments Journal
A4: Date | B4: Check # | C4: Payee | D4: Account Debited | E4: Post Ref | F4: Cash - CR | G4: Inventory - CR | H4: Other - DR | I4: A/P - DR

Sheet General Journal
A1: ='Chart of Accounts GL'!A1 -> AC Speed Corporation
A2: General Journal
A4: Date | B4: Accounts | C4: Post Ref | D4: DEBIT | E4: CREDIT

Sheet General Journal ADJ
A1: ='Chart of Accounts GL'!A1 -> AC Speed Corporation
A2: General Journal
A4: Date | C4: Accounts | D4: Post Ref | E4: DEBIT | F4: CREDIT

Sheet General Journal CLOSING
A1: ='Chart of Accounts GL'!A1 -> AC Speed Corporation
A2: General Journal
A4: Date | B4: Accounts | C4: Post Ref | D4: DEBIT | E4: CREDIT

Sheet General Ledger
A1: Account: | B1: ='Chart of Accounts GL'!B9 -> Cash | F1: Account No. | G1: ='Chart of Accounts GL'!A9 -> 100
D2: Transaction | F2: Account Balance
A3: Date | B3: Item | C3: Post Ref | D3: DEBIT | E3: CREDIT | F3: DEBIT | G3: CREDIT
A4: 40329 | B4: Balance | F4: 75000
I11: 120000
A14: Account: | B14: ='Chart of Accounts GL'!B10 -> Accounts Receivable | F14: Account No. | G14: ='Chart of Accounts GL'!A10 -> 102
D15: Transaction | F15: Account Balance
A16: Date | B16: Item | C16: Post Ref | D16: DEBIT | E16: CREDIT | F16: DEBIT | G16: 4
A17: 40329 | B17: Balance | F17: ='AR Ledger'!E4+'AR Ledger'!E17+'AR Ledger'!E30 -> 490000
A27: Account: | B27: ='Chart of Accounts GL'!B11 -> Allowance for Doubtful Accounts | F27: Account No. | G27: ='Chart of Accounts GL'!A11 -> 103
D28: Transaction | F28: Account Balance
A29: Date | B29: Item | C29: Post Ref | D29: DEBIT | E29: CREDIT | F29: DEBIT | G29: CREDIT
A30: 40329 | B30: Balance | G30: 15000
A39: Account: | B39: ='Chart of Accounts GL'!B12 -> Merchandise Inventory | F39: Account No. | G39: ='Chart of Accounts GL'!A12 -> 104
D40: Transaction | F40: Account Balance
A41: Date | B41: Item | C41: Post Ref | D41: DEBIT | E41: CREDIT | F41: DEBIT | G41: CREDIT
A42: 40329 | B42: Balance | F42: ='Inventory Control'!M4+'Inventory Control'!M19+'Inventory Control'!M32 -> 334000
A53: Account: | B53: ='Chart of Accounts GL'!B13 -> Office Supplies | F53: Account No. | G53: ='Chart of Accounts GL'!A13 -> 105
D54: Transaction | F54: Account Balance
A55: Date | B55: Item | C55: Post Ref | D55: DEBIT | E55: CREDIT | F55: DEBIT | G55: CREDIT
A56: 40329 | B56: Balance | F56: 2000
A66: Account: | B66: ='Chart of Accounts GL'!B14 -> Prepaid Insurance | F66: Account No. | G66: ='Chart of Accounts GL'!A14 -> 106
D67: Transaction | F67: Account Balance
A68: Date | B68: Item | C68: Post Ref | D68: DEBIT | E68: CREDIT | F68: DEBIT | G68: CREDIT
A69: 40329 | F69: ='Data - ADJ JE'!I13 -> 14000
A79: Account: | B79: ='Chart of Accounts GL'!B16 -> Land | F79: Account No. | G79: ='Chart of Accounts GL'!A16 -> 140
D80: Transaction | F80: Account Balance
A81: Date | B81: Item | C81: Post Ref | D81: DEBIT | E81: CREDIT | F81: DEBIT | G81: CREDIT
A82: 40330 | B82: Balance Carried Forward | D82: 2000600 | F82: =D82 -> 2000600
A92: Account: | B92: ='Chart of Accounts GL'!B17 -> Building | F92: Account No. | G92: ='Chart of Accounts GL'!A17 -> 145
D93: Transaction | F93: Account Balance
A94: Date | B94: Item | C94: Post Ref | D94: DEBIT | E94: CREDIT | F94: DEBIT | G94: CREDIT
A95: 40330 | B95: Balance Carried Forward | D95: 1500000 | F95: =D95 -> 1500000
A105: Account: | B105: ='Chart of Accounts GL'!B18 -> Accumulated Depreciation - Building | F105: Account No. | G105: ='Chart of Accounts GL'!A18 -> 146
D106: Transaction | F106: Account Balance
A107: Date | B107: Item | C107: Post Ref | D107: DEBIT | E107: CREDIT | F107: DEBIT | G107: CREDIT
A108: 40329 | B108: Balance Carried Forward | E108: 1500000 | G108: =E108 -> 1500000
A118: Account: | B118: ='Chart of Accounts GL'!B19 -> Equipment & Furniture - Warehouse | F118: Account No. | G118: ='Chart of Accounts GL'!A19 -> 151
D119: Transaction | F119: Account Balance
A120: Date | B120: Item | C120: Post Ref | D120: DEBIT | E120: CREDIT | F120: DEBIT | G120: CREDIT
...

Sheet AR Ledger
A1: Account: | B1: ='Chart of Accounts AR Ledger'!B5 -> General Motors
C2: Transaction | E2: Account Balance
A3: Date | B3: Post Ref | C3: DEBIT | D3: CREDIT | E3: DEBIT | F3: CREDIT
A4: 40329 | E4: 5000
A5: 40714 | D5: ='General Journal'!E20 -> 0 | E5: =E4-D5 -> 5000
A14: Account: | B14: ='Chart of Accounts AR Ledger'!B6 -> Ford Motor Co.
C15: Transaction | E15: Account Balance
A16: Date | B16: Post Ref | C16: DEBIT | D16: CREDIT | E16: DEBIT | F16: CREDIT
A17: 40303 | C17: 300000 | E17: =C17 -> 300000
A27: Account: | B27: ='Chart of Accounts AR Ledger'!B7 -> Toyota
C28: Transaction | E28: Account Balance
A29: Date | B29: Post Ref | C29: DEBIT | D29: CREDIT | E29: DEBIT | F29: CREDIT
A30: 40309 | C30: =Data!G9 -> 185000 | E30: =C30 -> 185000
A40: Account: | B40: ='Chart of Accounts AR Ledger'!B8 -> Honda
C41: Transaction | E41: Account Balance
A42: Date | B42: Post Ref | C42: DEBIT | D42: CREDIT | E42: DEBIT | F42: CREDIT
A53: Account: | B53: ='Chart of Accounts AR Ledger'!B9 -> Kia
C54: Transaction | E54: Account Balance
A55: Date | B55: Post Ref | C55: DEBIT | D55: CREDIT | E55: DEBIT | F55: CREDIT
A66: Account: | B66: ='Chart of Accounts AR Ledger'!B10 -> Nissan
C67: Transaction | E67: Account Balance
A68: Date | B68: Post Ref | C68: DEBIT | D68: CREDIT | E68: DEBIT | F68: CREDIT

Sheet AP Ledger
A3: Account: | B3: ='Chart of Accounts AP Ledger'!B6 -> Garmin | E3: Account No.
C4: Transaction | E4: Account Balance
A5: Date | B5: Post Ref | C5: DEBIT | D5: CREDIT | E5: DEBIT | F5: CREDIT
A6: 40329 | F6: 18000
A16: Account: | B16: ='Chart of Accounts AP Ledger'!B7 -> JVC | E16: Account No.
C17: Transaction | E17: Account Balance
A18: Date | B18: Post Ref | C18: DEBIT | D18: CREDIT | E18: DEBIT | F18: CREDIT
A19: 40329 | D19: 162500 | F19: =D19 -> 162500
A29: Account: | B29: ='Chart of Accounts AP Ledger'!B8 -> Magellan | E29: Account No.
C30: Transaction | E30: Account Balance
A31: Date | B31: Post Ref | C31: DEBIT | D31: CREDIT | E31: DEBIT | F31: CREDIT
A32: 40329 | F32: 30000
A42: Account: | B42: ='Chart of Accounts AP Ledger'!B10 -> Motorola | E42: Account No.
C43: Transaction | E43: Account Balance
A44: Date | B44: Post Ref | C44: DEBIT | D44: CREDIT | E44: DEBIT | F44: CREDIT
A45: 40329 | F45: 58000
A55: Account: | B55: ='Chart of Accounts AP Ledger'!B11 -> Navistar | E55: Account No.
C56: Transaction | E56: Account Balance
A57: Date | B57: Post Ref | C57: DEBIT | D57: CREDIT | E57: DEBIT | F57: CREDIT
A58: 40329 | F58: 50000
A68: Account: | B68: ='Chart of Accounts AP Ledger'!B12 -> Office Max | E68: Account No.
C69: Transaction | E69: Account Balance
A70: Date | B70: Post Ref | C70: DEBIT | D70: CREDIT | E70: DEBIT | F70: CREDIT
A81: Account: | B81: ='Chart of Accounts AP Ledger'!B13 -> Samsung | E81: Account No.
C82: Transaction | E82: Account Balance
A83: Date | B83: Post Ref | C83: DEBIT | D83: CREDIT | E83: DEBIT | F83: CREDIT

Sheet Worksheet June 2013
C1: Unadjusted | G1: Adjusted | I1: Income | K1: Bal. Sheet
C2: Trial Balance | E2: Adjustments | G2: Trial Balance | I2: Statement | K2: Stmt. Own. Equity
A3: Acct. No. | B3: Account Title | C3: Dr. | D3: Cr. | E3: Dr. | F3: Cr. | G3: Dr. | H3: Cr. | I3: Dr. | J3: Cr. | K3: Dr. | L3: Cr.
A4: ='Chart of Accounts GL'!A9 -> 100 | B4: ='Chart of Accounts GL'!B9 -> Cash
A5: ='Chart of Accounts GL'!A10 -> 102 | B5: ='Chart of Accounts GL'!B10 -> Accounts Receivable
A6: ='Chart of Accounts GL'!A11 -> 103 | B6: ='Chart of Accounts GL'!B11 -> Allowance for Doubtful Accounts
A7: ='Chart of Accounts GL'!A12 -> 104 | B7: ='Chart of Accounts GL'!B12 -> Merchandise Inventory
A8: ='Chart of Accounts GL'!A13 -> 105 | B8: ='Chart of Accounts GL'!B13 -> Office Supplies
A9: ='Chart of Accounts GL'!A14 -> 106 | B9: ='Chart of Accounts GL'!B14 -> Prepaid Insurance
A10: ='Chart of Accounts GL'!A16 -> 140 | B10: ='Chart of Accounts GL'!B16 -> Land
A11: ='Chart of Accounts GL'!A17 -> 145 | B11: ='Chart of Accounts GL'!B17 -> Building
A12: ='Chart of Accounts GL'!A18 -> 146 | B12: ='Chart of Accounts GL'!B18 -> Accumulated Depreciation - Building
A13: ='Chart of Accounts GL'!A19 -> 151 | B13: ='Chart of Accounts GL'!B19 -> Equipment & Furniture - Warehouse
A14: ='Chart of Accounts GL'!A20 -> 152 | B14: ='Chart of Accounts GL'!B20 -> Accumulated Depreciation - Equip & Furn. - Warehouse
A15: ='Chart of Accounts GL'!A21 -> 153 | B15: ='Chart of Accounts GL'!B21 -> Equipment & Furniture - Office
A16: ='Chart of Accounts GL'!A22 -> 154 | B16: ='Chart of Accounts GL'!B22 -> Accumulated Depreciation - Equip & Furn. - Office
A17: ='Chart of Accounts GL'!A26 -> 201 | B17: ='Chart of Accounts GL'!B26 -> Accounts Payable
A18: ='Chart of Accounts GL'!A27 -> 202 | B18: ='Chart of Accounts GL'!B27 -> Wages Payable
A19: ='Chart of Accounts GL'!A28 -> 203 | B19: ='Chart of Accounts GL'!B28 -> Interest Payable
A20: ='Chart of Accounts GL'!A29 -> 204 | B20: ='Chart of Accounts GL'!B29 -> Dividends Payable
A21: ='Chart of Accounts GL'!A30 -> 205 | B21: ='Chart of Accounts GL'!B30 -> Unearned Rent
A22: ='Chart of Accounts GL'!A32 -> 250 | B22: ='Chart of Accounts GL'!B32 -> Notes Payable
A23: ='Chart of Accounts GL'!A33 -> 251 | B23: ='Chart of Accounts GL'!B33 -> Bonds Payable
A24: ='Chart of Accounts GL'!A34 -> 252 | B24: ='Chart of Accounts GL'!B34 -> Mortgage (Warehouse) Payable
A25: ='Chart of Accounts GL'!A36 -> 300 | B25: ='Chart of Accounts GL'!B36 -> Common Stock, $1 Par, 100,000 Authorized; 60,000 shares Issued/Outstanding
A26: ='Chart of Accounts GL'!A37 -> 301 | B26: ='Chart of Accounts GL'!B37 -> Paid In Capital - Excess of Par
A27: ='Chart of Accounts GL'!A38 -> 330 | B27: ='Chart of Accounts GL'!B38 -> Retained Earnings
A28: ='Chart of Accounts GL'!A39 -> 340 | B28: ='Chart of Accounts GL'!B39 -> Treasury Stock
A29: ='Chart of Accounts GL'!A42 -> 500 | B29: ='Chart of Accounts GL'!B42 -> Sales
A30: ='Chart of Accounts GL'!A43 -> 510 | B30: ='Chart of Accounts GL'!B43 -> Sales Discounts
A31: ='Chart of Accounts GL'!A44 -> 511 | B31: ='Chart of Accounts GL'!B44 -> Sales Returns & Allowances
A32: ='Chart of Accounts GL'!A46 -> 600 | B32: ='Chart of Accounts GL'!B46 -> Cost of Goods Sold
A33: ='Chart of Accounts GL'!A48 -> 700 | B33: ='Chart of Accounts GL'!B48 -> Wage Expense (hourly workers)
A34: ='Chart of Accounts GL'!A49 -> 701 | B34: ='Chart of Accounts GL'!B49 -> Salaries Expense (Exempt Staff)
A35: ='Chart of Accounts GL'!A50 -> 702 | B35: ='Chart of Accounts GL'!B50 -> Marketing Expense
A36: ='Chart of Accounts GL'!A51 -> 703 | B36: ='Chart of Accounts GL'!B51 -> Travel and Entertainment Expense
A37: ='Chart of Accounts GL'!A52 -> 704 | B37: ='Chart of Accounts GL'!B52 -> Bad Debt Expense
A38: ='Chart of Accounts GL'!A53 -> 705 | B38: ='Chart of Accounts GL'!B53 -> Property Tax Expense
A39: ='Chart of Accounts GL'!A54 -> 706 | B39: ='Chart of Accounts GL'!B54 -> Office Maintenance & Repair Expense
A40: ='Chart of Accounts GL'!A55 -> 707 | B40: ='Chart of Accounts GL'!B55 -> Legal Expenses
...

Sheet IS June 2013
A1: ='Chart of Accounts GL'!A1 -> AC Speed Corporation
A2: Income Statement

Sheet Stmt RE June 2013
A1: ='Chart of Accounts GL'!A1 -> AC Speed Corporation
A2: Statement of Retained Earnings

Sheet BS June 2013
A1: ='Chart of Accounts GL'!A1 -> AC Speed Corporation
A2: Balance Sheet

Sheet Post Closing Trial Balance
A1: ='IS June 2013'!A1 -> AC Speed Corporation
A2: Post-closing Trial Balance
B4: DEBIT | C4: CREDIT
D30: =C30-B30 -> 0

Sheet Adjusted Trial Balances
B1: B/S Adjuster | C1: 1.12 | D1: 1.12 | E1: 1.06 | F1: 1.06 | G1: 1.1 | H1: 1.1 | I1: 1.09 | J1: 1.09
B2: I/S Adjuster | C2: 12 | D2: 12 | E2: 1.02 | F2: 1.02 | G2: 1.02 | H2: =G2 -> 1.02 | I2: 1.01 | J2: 1.01
C3: =Data!K37 -> 41274 | E3: =Data!L37 -> 40908 | G3: =Data!M37 -> 40543 | I3: =Data!N37 -> 40178 | K3: 41060
C4: Adjusted | E4: Adjusted | G4: Adjusted | I4: Adjusted | K4: Adjusted
C5: Trial Balance | E5: Trial Balance | G5: Trial Balance | I5: Trial Balance | K5: Trial Balance
A6: Acct. No. | B6: Account Title | C6: Dr. | D6: Cr. | E6: Dr. | F6: Cr. | G6: Dr. | H6: Cr. | I6: Dr. | J6: Cr. | K6: Dr. | L6: Cr.
A7: ='[1]Chart of Accounts GL'!A9 -> 100 | B7: ='Chart of Accounts GL'!B9 -> Cash | C7: =($C$1*K7)+210000+5000 -> 299000 | D7: =$D$1*L7 -> 0 | E7: =($E$1*C7) -> 316940 | F7: =$F$1*D7 -> 0 | G7: =G$1*E7 -> 348634 | H7: =H$1*F7 -> 0 | I7: =I$1*G7 -> 380011.06 | J7: =J$1*H7 -> 0 | K7: ='General Ledger'!F4 -> 75000
A8: ='[1]Chart of Accounts GL'!A10 -> 102 | B8: ='Chart of Accounts GL'!B10 -> Accounts Receivable | C8: =($C$1*K8)+250000+150000 -> 948800 | D8: =$D$1*L8 -> 0 | E8: =$E$1*(C8-150000) -> 846728 | F8: =$F$1*D8 -> 0 | G8: =(G$1*E8) -> 931400.8 | H8: =H$1*F8 -> 0 | I8: =((I$1*G8)) -> 1015226.9 | J8: =J$1*H8 -> 0 | K8: ='General Ledger'!F17 -> 490000 | M8: =J56 -> 0
A9: ='[1]Chart of Accounts GL'!A11 -> 103 | B9: ='Chart of Accounts GL'!B11 -> Allowance for Doubtful Accounts | C9: =$C$1*K9 -> 0 | D9: =$D$1*L9 -> 16800 | E9: =$E$1*C9 -> 0 | F9: =$F$1*D9 -> 17808 | G9: =G$1*E9 -> 0 | H9: =H$1*F9 -> 19588.8 | I9: =I$1*G9 -> 0 | J9: =J$1*H9 -> 21351.792 | L9: ='General Ledger'!G30 -> 15000
A10: ='[1]Chart of Accounts GL'!A12 -> 104 | B10: ='Chart of Accounts GL'!B12 -> Merchandise Inventory | C10: =($C$1*K10)+227776 -> 601856 | D10: =$D$1*L10 -> 0 | E10: =($E$1*C10) -> 637967.36 | F10: =$F$1*D10 -> 0 | G10: =(G$1*E10) -> 701764.1 | H10: =H$1*F10 -> 0 | I10: =(I$1*G10) -> 764922.86 | J10: =J$1*H10 -> 0 | K10: ='General Ledger'!F42 -> 334000
A11: ='[1]Chart of Accounts GL'!A13 -> 105 | B11: ='Chart of Accounts GL'!B13 -> Office Supplies | C11: =($C$1*K11) -> 2240 | D11: =$D$1*L11 -> 0 | E11: =$E$1*C11 -> 2374.4 | F11: =$F$1*D11 -> 0 | G11: =G$1*E11 -> 2611.84 | H11: =H$1*F11 -> 0 | I11: =I$1*G11 -> 2846.9056 | J11: =J$1*H11 -> 0 | K11: ='General Ledger'!F56 -> 2000
A12: ='[1]Chart of Accounts GL'!A14 -> 106 | B12: ='Chart of Accounts GL'!B14 -> Prepaid Insurance | C12: =$C$1*K12 -> 15680 | D12: =$D$1*L12 -> 0 | E12: =$E$1*C12 -> 16620.8 | F12: =$F$1*D12 -> 0 | G12: =$G$1*E12 -> 18282.88 | H12: =H$1*F12 -> 0 | I12: =$G$1*G12 -> 20111.168 | J12: =J$1*H12 -> 0 | K12: ='General Ledger'!F69 -> 14000
A13: ='[1]Chart of Accounts GL'!A16 -> 140 | B13: ='Chart of Accounts GL'!B16 -> Land | C13: =K13 -> 2000600 | D13: =$D$1*L13 -> 0 | E13: =K13 -> 2000600 | F13: =$F$1*D13 -> 0 | G13: =$K13 -> 2000600 | H13: =H$1*F13 -> 0 | I13: =$K13 -> 2000600 | J13: =J$1*H13 -> 0 | K13: ='General Ledger'!F82 -> 2000600
A14: ='[1]Chart of Accounts GL'!A17 -> 145 | B14: ='Chart of Accounts GL'!B17 -> Building | C14: =E14 -> 1500000 | E14: =G14 -> 1500000 | G14: =$K14 -> 1500000 | I14: =$K14 -> 1500000 | K14: ='General Ledger'!F95 -> 1500000
A15: ='[1]Chart of Accounts GL'!A18 -> 146 | B15: ='Chart of Accounts GL'!B18 -> Accumulated Depreciation - Building | D15: =F15 -> 1500000 | F15: =H15 -> 1500000 | H15: =L15 -> 1500000 | J15: 1500000 | L15: ='General Ledger'!G108 -> 1500000
A16: ='[1]Chart of Accounts GL'!A19 -> 151 | B16: ='Chart of Accounts GL'!B19 -> Equipment & Furniture - Warehouse | C16: =$C$1*K16 -> 11200 | D16: =$D$1*L16 -> 0 | E16: =$E$1*C16 -> 11872 | F16: =$F$1*D16 -> 0 | G16: =G$1*E16 -> 13059.2 | H16: =H$1*F16 -> 0 | I16: =I$1*G16 -> 14234.528 | J16: =J$1*H16 -> 0 | K16: ='General Ledger'!F121 -> 10000
A17: ='[1]Chart of Accounts GL'!A20 -> 152 | B17: ='Chart of Accounts GL'!B20 -> Accumulated Depreciation - Equip & Furn. - Warehouse | C17: =$C$1*K17 -> 0 | D17: =$D$1*L17 -> 2128 | E17: =$E$1*C17 -> 0 | F17: =$F$1*D17 -> 2255.68 | G17: =G$1*E17 -> 0 | H17: =H$1*F17 -> 2481.248 | I17: =I$1*G17 -> 0 | J17: =J$1*H17 -> 2704.5603 | L17: ='General Ledger'!G134 -> 1900
A18: ='[1]Chart of Accounts GL'!A21 -> 153 | B18: ='Chart of Accounts GL'!B21 -> Equipment & Furniture - Office | C18: =$C$1*K18 -> 9520 | D18: =$D$1*L18 -> 0 | E18: =$E$1*C18 -> 10091.2 | F18: =$F$1*D18 -> 0 | G18: =G$1*E18 -> 11100.32 | H18: =H$1*F18 -> 0 | I18: =I$1*G18 -> 12099.349 | J18: =J$1*H18 -> 0 | K18: ='General Ledger'!F147 -> 8500
A19: ='[1]Chart of Accounts GL'!A22 -> 154 | B19: ='Chart of Accounts GL'!B22 -> Accumulated Depreciation - Equip & Furn. - Office | C19: =$C$1*K19 -> 0 | D19: =$D$1*L19 -> 1792 | E19: =$E$1*C19 -> 0 | F19: =$F$1*D19 -> 1899.52 | G19: =G$1*E19 -> 0 | H19: =H$1*F19 -> 2089.472 | I19: =I$1*G19 -> 0 | J19: =J$1*H19 -> 2277.5245 | L19: ='General Ledger'!G160 -> 1600
A20: ='[1]Chart of Accounts GL'!A26 -> 201 | B20: ='Chart of Accounts GL'!B26 -> Accounts Payable | C20: =$C$1*K20 -> 0 | D20: =$D$1*L20-250000 -> 812432 | E20: =$E$1*C20 -> 0 | F20: =$F$1*D20 -> 861177.92 | G20: =G$1*E20 -> 0 | H20: =F20*H1 -> 947295.71 | I20: =I$1*G20 -> 0 | J20: =H20*J1-54214 -> 978338.33 | L20: ='General Ledger'!G173 -> 948600
A21: ='[1]Chart of Accounts GL'!A27 -> 202 | B21: ='Chart of Accounts GL'!B27 -> Wages Payable | C21: =$C$1*K21 -> 0 | D21: =$D$1*L21 -> 0 | E21: =$E$1*C21 -> 0 | F21: =$F$1*D21 -> 0 | G21: =G$1*E21 -> 0 | H21: =H$1*F21 -> 0 | I21: =I$1*G21 -> 0 | J21: =J$1*H21 -> 0 | L21: ='General Ledger'!G185 -> 0
A22: ='[1]Chart of Accounts GL'!A28 -> 203 | B22: ='Chart of Accounts GL'!B28 -> Interest Payable | C22: =$C$1*K22 -> 0 | D22: =$D$1*L22 -> 0 | E22: =$E$1*C22 -> 0 | F22: =$F$1*D22 -> 0 | G22: =G$1*E22 -> 0 | H22: =H$1*F22 -> 0 | I22: =I$1*G22 -> 0 | J22: =J$1*H22 -> 0 | L22: ='General Ledger'!G198 -> 0
A23: ='[1]Chart of Accounts GL'!A29 -> 204 | B23: ='Chart of Accounts GL'!B29 -> Dividends Payable | C23: =$C$1*K23 -> 0 | D23: =$D$1*L23 -> 0 | E23: =$E$1*C23 -> 0 | F23: =$F$1*D23 -> 0 | G23: =G$1*E23 -> 0 | H23: =H$1*F23 -> 0 | I23: =I$1*G23 -> 0 | J23: =J$1*H23 -> 0 | L23: 0
A24: ='[1]Chart of Accounts GL'!A30 -> 205 | B24: ='Chart of Accounts GL'!B30 -> Unearned Rent | C24: =$C$1*K24 -> 0 | D24: =$D$1*L24 -> 0 | E24: =$E$1*C24 -> 0 | F24: =$F$1*D24 -> 0 | G24: =G$1*E24 -> 0 | H24: =H$1*F24 -> 0 | I24: =I$1*G24 -> 0 | J24: =J$1*H24 -> 0 | L24: 0
A25: ='[1]Chart of Accounts GL'!A32 -> 250 | B25: ='Chart of Accounts GL'!B32 -> Notes Payable | C25: =$C$1*K25 -> 0 | D25: =$D$1*L25 -> 0 | E25: =$E$1*C25 -> 0 | F25: =$F$1*D25 -> 0 | G25: =G$1*E25 -> 0 | H25: =H$1*F25 -> 0 | I25: =I$1*G25 -> 0 | J25: =J$1*H25 -> 0 | L25: 0
A26: ='[1]Chart of Accounts GL'!A33 -> 251 | B26: ='Chart of Accounts GL'!B33 -> Bonds Payable | C26: =$C$1*K26 -> 0 | D26: =$D$1*L26 -> 0 | E26: =$E$1*C26 -> 0 | F26: =$F$1*D26 -> 0 | G26: =G$1*E26 -> 0 | H26: =H$1*F26 -> 0 | I26: =I$1*G26 -> 0 | J26: =J$1*H26 -> 0 | L26: 0
A27: ='[1]Chart of Accounts GL'!A34 -> 252 | B27: ='Chart of Accounts GL'!B34 -> Mortgage (Warehouse) Payable | C27: =$C$1*K27 -> 0 | D27: =$D$1*L27-100000 -> 124000 | E27: =$E$1*C27 -> 0 | F27: =$F$1*D27 -> 131440 | G27: =G$1*E27 -> 0 | H27: =H$1*F27 -> 144584 | I27: =I$1*G27 -> 0 | J27: =J$1*H27 -> 157596.56 | L27: ='General Ledger'!G259 -> 200000
A28: ='[1]Chart of Accounts GL'!A36 -> 300 | B28: ='Chart of Accounts GL'!B36 -> Common Stock, $1 Par, 100,000 Authorized; 60,000 shares Issued/Outstanding | C28: =$C$1*K28 -> 0 | D28: =Data!K38 -> 65000 | E28: =C28 -> 0 | F28: =D28 -> 65000 | G28: =E28 -> 0 | H28: =F28 -> 65000 | I28: =G28 -> 0 | J28: =H28 -> 65000 | L28: ='General Ledger'!G271 -> 60000
A29: ='[1]Chart of Accounts GL'!A37 -> 301 | B29: ='Chart of Accounts GL'!B37 -> Paid In Capital - Excess of Par | C29: =$C$1*K29 -> 0 | D29: =Data!K39 -> 1545000 | E29: =C29 -> 0 | F29: =D29 -> 1545000 | G29: =E29 -> 0 | H29: =F29 -> 1545000 | I29: =G29 -> 0 | J29: =H29 -> 1545000 | L29: ='General Ledger'!G284 -> 1341000
A30: ='[1]Chart of Accounts GL'!A38 -> 330 | B30: ='Chart of Accounts GL'!B38 -> Retained Earnings | C30: =$C$1*K30 -> 0 | D30: =Data!K40+5000 -> 1171744 | F30: =Data!L40+5300-0.36 -> 1071043.6 | H30: =Data!M40+5830-0.48 -> 961859.52 | J30: =Data!N40+6355+0.06 -> 1244834.1 | L30: ='General Ledger'!G296 -> 366000
A31: ='[1]Chart of Accounts GL'!A39 -> 340 | B31: ='Chart of Accounts GL'!B39 -> Treasury Stock | C31: =$C$1*K31 -> 0 | D31: =$D$1*L31 -> 0 | E31: =C31 -> 0 | F31: =D31 -> 0 | G31: =E31 -> 0 | H31: =F31 -> 0 | I31: =G31 -> 0 | J31: =H31 -> 0 | K31: 0 | L31: 0
A32: ='[1]Chart of Accounts GL'!A42 -> 500 | B32: ='Chart of Accounts GL'!B42 -> Sales | C32: =K32*$C$2 -> 0 | D32: =(L32*$D$2)+150000 -> 8850000 | E32: =C32*$E$2 -> 0 | F32: =(D32-150000)*$F$2 -> 8874000 | G32: =E32*G$2 -> 0 | H32: =(F32*H$2) -> 9051480 | I32: =G32*I$2 -> 0 | J32: =(H32*J$2) -> 9141994.8 | L32: =Data!D38 -> 725000
A33: ='[1]Chart of Accounts GL'!A43 -> 510 | B33: ='Chart of Accounts GL'!B43 -> Sales Discounts | C33: =K33*$C$2 -> 0 | D33: =L33*$D$2 -> 0 | E33: =C33*$E$2 -> 0 | F33: =D33*$F$2 -> 0 | G33: =E33*G$2 -> 0 | H33: =F33*H$2 -> 0 | I33: =G33*I$2 -> 0 | J33: =H33*J$2 -> 0 | K33: 0 | L33: 0
A34: ='[1]Chart of Accounts GL'!A44 -> 511 | B34: ='Chart of Accounts GL'!B44 -> Sales Returns & Allowances | C34: =K34*$C$2 -> 0 | D34: =L34*$D$2 -> 0 | E34: =C34*$E$2 -> 0 | F34: =D34*$F$2 -> 0 | G34: =E34*G$2 -> 0 | H34: =F34*H$2 -> 0 | I34: =G34*I$2 -> 0 | J34: =H34*J$2 -> 0 | K34: 0 | L34: 0
A35: ='[1]Chart of Accounts GL'!A46 -> 600 | B35: ='Chart of Accounts GL'!B46 -> Cost of Goods Sold | C35: =K35*$C$2 -> 7656000 | D35: =L35*$D$2 -> 0 | E35: =C35*$E$2-147569 -> 7661551 | F35: =D35*$F$2 -> 0 | G35: =E35*G$2-189034 -> 7625748 | H35: =F35*H$2 -> 0 | I35: =(G35*I$2)+150000 -> 7852005.5 | J35: =H35*J$2 -> 0 | K35: =L32*Data!D39 -> 638000
A36: ='[1]Chart of Accounts GL'!A48 -> 700 | B36: ='Chart of Accounts GL'!B48 -> Wage Expense (hourly workers) | C36: =K36*$C$2 -> 120000 | D36: =L36*$D$2 -> 0 | E36: =C36*$E$2 -> 122400 | F36: =D36*$F$2 -> 0 | G36: =E36*G$2 -> 124848 | H36: =F36*H$2 -> 0 | I36: =G36*I$2 -> 126096.48 | J36: =H36*J$2 -> 0 | K36: =Data!D40 -> 10000
A37: ='[1]Chart of Accounts GL'!A49 -> 701 | B37: ='Chart of Accounts GL'!B49 -> Salaries Expense (Exempt Staff) | C37: =K37*$C$2 -> 360000 | D37: =L37*$D$2 -> 0 | E37: =C37*$E$2 -> 367200 | F37: =D37*$F$2 -> 0 | G37: =E37*G$2 -> 374544 | H37: =F37*H$2 -> 0 | I37: =G37*I$2 -> 378289.44 | J37: =H37*J$2 -> 0 | K37: =Data!D41 -> 30000
A38: ='[1]Chart of Accounts GL'!A50 -> 702 | B38: ='Chart of Accounts GL'!B50 -> Marketing Expense | C38: =K38*$C$2 -> 288000 | D38: =L38*$D$2 -> 0 | E38: =C38*$E$2 -> 293760 | F38: =D38*$F$2 -> 0 | G38: =E38*G$2 -> 299635.2 | H38: =F38*H$2 -> 0 | I38: =G38*I$2 -> 302631.55 | J38: =H38*J$2 -> 0 | K38: =Data!D42 -> 24000
A39: ='[1]Chart of Accounts GL'!A51 -> 703 | B39: ='Chart of Accounts GL'!B51 -> Travel and Entertainment Expense | C39: =K39*$C$2 -> 27600 | D39: =L39*$D$2 -> 0 | E39: =C39*$E$2 -> 28152 | F39: =D39*$F$2 -> 0 | G39: =E39*G$2 -> 28715.04 | H39: =F39*H$2 -> 0 | I39: =G39*I$2 -> 29002.19 | J39: =H39*J$2 -> 0 | K39: =Data!D43 -> 2300
A40: ='[1]Chart of Accounts GL'!A52 -> 704 | B40: ='Chart of Accounts GL'!B52 -> Bad Debt Expense | C40: =K40*$C$2 -> 0 | D40: =L40*$D$2 -> 0 | E40: =C40*$E$2 -> 0 | F40: =D40*$F$2 -> 0 | G40: =E40*G$2 -> 0 | H40: =F40*H$2 -> 0 | I40: =G40*I$2 -> 0 | J40: =H40*J$2 -> 0 | K40: 0 | L40: 0
...

Sheet IS Comparative
A1: ='[1]Chart of Accounts GL'!A1 -> AC Speed Corporation
A2: Income Statement
B3: ='Adjusted Trial Balances'!C3 -> 41274 | D3: ='Adjusted Trial Balances'!E3 -> 40908 | F3: ='Adjusted Trial Balances'!G3 -> 40543 | H3: ='Adjusted Trial Balances'!I3 -> 40178 | J3: ='Adjusted Trial Balances'!K3 -> 41060
A38: Common Dividends | B38: 19200 | D38: 16130 | F38: 15000 | H38: 1600
A39: Weighted Average Common Shares | B39: 65000 | D39: 65000 | F39: 65000 | H39: 62500
A40: Market Price per Common Share | B40: 35 | D40: 34 | F40: 31 | H40: 34

Sheet BS Comparative
A1: ='[1]Chart of Accounts GL'!A1 -> AC Speed Corporation
A2: Balance Sheet
B3: ='IS Comparative'!B3 -> 41274 | D3: ='IS Comparative'!D3 -> 40908 | F3: ='IS Comparative'!F3 -> 40543 | H3: ='IS Comparative'!H3 -> 40178 | J3: ='IS Comparative'!J3 -> 41060

Sheet Ratios Historical
B1: ='BS Comparative'!B3 -> 41274 | D1: ='BS Comparative'!D3 -> 40908 | F1: ='BS Comparative'!F3 -> 40543 | H1: INDUSTRY
A2: Liquidity
A3: Current Ratio (One decimal place) | H3: 2.2
A7: Acid Test Ratio (One decimal place) | H7: 1.6
A13: Receivables Turnover (One decimal place) | H13: 10
A19: Inventory Turnover (One decimal place) | H19: 9.5
A24: Profitability
A26: Profit Margin (% with two decimal places) | H26: 0.035
A30: Asset Turnover (two decimal places) | H30: 1.9
A36: Return on Assets (% one decimal place) | H36: 0.105
A40: Return on Common Shareholders' Equity
A41: (One decimal place) | H41: 0.183
A48: Earnings per Share (EPS) (Two decimal places) | H48: 3.05
A53: Price-Earnings (P/E ) Ratio (Two decimal places) | H53: 14.8
A57: Payout Ratio (% One decimal place) | H57: 0.15
A62: Solvency Ratios
A64: Debt to Total Assets Ratio (% One decimal place) | H64: 0.422
B68: Dec. 31, 2012 | D68: Dec. 31, 2011 | F68: Dec. 31, 2010
A69: Common Dividends | B69: 19200 | D69: 16130 | F69: 15000
A70: Weighted Average Common Shares | B70: 65000 | D70: 65000 | F70: 63750
A71: Market Price per Share | B71: 35 | D71: 34 | F71: 31
A75: INSTRUCTIONS:
A76: Calculate all of the ratios listed above.
A77: Evaluate the company's performance trend relative to liquidity, profitability and solvency.
A78: Evaluate the company's performance relative to liquidity, profitability and solvency for their industry for the three years.
A79: Relate to the company management in which areas they are performing well and in which areas they need improvement.

Sheet Inventory Control
A1: Shoe: | B1: =Products!A2 -> GPS
B2: Beginning Inventory (BI) | E2: Purchases | H2: Sales | K2: Ending Inventory (EI)
A3: Date | B3: BI Units | C3: BI $/Unit | D3: BI $ | E3: Purch Units | F3: Purch $/Unit | G3: Purch $ | H3: Sale Units (CGS) | I3: Sale $/Unit (CGS) | J3: Sale $ (CGS) | K3: EI Units | L3: EI $/Unit | M3: EI $
A4: 40330 | B4: 3300 | C4: 35 | D4: =B4*C4 -> 115500 | G4: =E4*F4 -> 0 | J4: =H4*I4 -> 0 | M4: =D4+G4-J4 -> 115500
A5: =Data!A3 -> 41426
A6: =Data!A7 -> 41427
A9: =Data!A15 -> 41438
A10: 40346
A11: 40711
A12: 40714
A13: 40721
A16: Shoe: | B16: =Products!A3 -> DVD Player
B17: Beginning Inventory (BI) | E17: Purchases | H17: Sales | K17: Ending Inventory (EI)
A18: Date | B18: BI Units | C18: BI $/Unit | D18: BI $ | E18: Purch Units | F18: Purch $/Unit | G18: Purch $ | H18: Sale Units (CGS) | I18: Sale $/Unit (CGS) | J18: Sale $ (CGS) | K18: EI Units | L18: EI $/Unit | M18: EI $
A19: 40330 | B19: 2500 | C19: 65 | D19: =B19*C19 -> 162500 | G19: =E19*F19 -> 0 | J19: =H19*I19 -> 0 | M19: =D19 -> 162500
A20: =Data!A4 -> 41426
A21: =Data!A14 -> 41438
A22: =Data!A18 -> 41440
A29: Shoe: | B29: =Products!A4 -> Docking Station
B30: Beginning Inventory (BI) | E30: Purchases | H30: Sales | K30: Ending Inventory (EI)
A31: Date | B31: BI Units | C31: BI $/Unit | D31: BI $ | E31: Purch Units | F31: Purch $/Unit | G31: Purch $ | H31: Sale Units (CGS) | I31: Sale $/Unit (CGS) | J31: Sale $ (CGS) | K31: EI Units | L31: EI $/Unit | M31: EI $
A32: 40330 | B32: 1400 | C32: 40 | D32: =B32*C32 -> 56000 | J32: =H32*I32 -> 0 | M32: =D32+G32-J32 -> 56000
A33: =Data!A7 -> 41427
A34: =Data!A19 -> 41441
A35: =Data!A21 -> 41447
A36: =Data!A26 -> 41451
A37: =Data!A27 -> 41452
A38: =Data!A27 -> 41452

Sheet Data
A1: Date | B1: Type of Tran. | C1: Journal | D1: Other/ACT | E1: Units | F1: $ per Unit | G1: Total $ | H1: Discount | I1: Discount % | J1: Balance Owing | K1: Amt of Discount | L1: Amt of Balance | M1: L/T Payable | N1: Interest | O1: Duration (years) | P1: Interest Paid | Q1: Balance Paid | R1: Concatenate1 | S1: Concatenate2 | T1: Concatenate3 | U1: Concatenate4 | V1: Concatenate5 | W1: Concatenate6 | X1: Concatenate7 | Y1: Concatenate8 | Z1: Concatenate9 | AA1: Concatenate10
A2: 41426 | B2: Financing | C2: Cash Receipts Journal | D2: Note Payable | M2: 210000 | N2: 0.071 | O2: 3 | R2: Signed a | S2: =Table1[[#This Row],[Duration (years)]] -> 3 | T2: year | U2: =Table1[[#This Row],[Interest]]*100 -> 7.1 | V2: =Table1[[#This Row],[L/T Payable]] -> 210000 | W2: note payable with First Bank. | AA2: =CONCATENATE(Table1[[#This Row],[Concatenate1]]," ",Table1[[#This Row],[Concatenate2]]," ",Table1[[#This Row],[Concatenate3]]," ",Table1[[#This Row],[Concatenate4]],"% , $",Table1[[#This Row],[Concatenate5]]," ",Table1[[#This Row],[Concatenate6]]) -> Signed a 3 year 7.1% , $210000 note payable with First Bank.
A3: 41426 | B3: Purchase | C3: Purchases Journal | E3: 3100 | F3: 35.5 | G3: =E3*F3 -> 110050 | H3: Yes | I3: 0.02 | J3: =G3 -> 110050 | R3: Purchased | S3: =Table1[[#This Row],[Units]] -> 3100 | T3: GPS units on credit from Navistar for $ | U3: =Table1[[#This Row],[$ per Unit]] -> 35.5 | V3: per unit. | AA3: =CONCATENATE(Table1[[#This Row],[Concatenate1]]," ",Table1[[#This Row],[Concatenate2]]," ",Table1[[#This Row],[Concatenate3]],"",Table1[[#This Row],[Concatenate4]]," ",Table1[[#This Row],[Concatenate5]]," ",Table1[[#This Row],[Concatenate6]]) -> Purchased 3100 GPS units on credit from Navistar for $35.5 per unit.
A4: 41426 | B4: Sale | C4: Sales Journal | E4: 1983 | F4: 75 | G4: =E4*F4 -> 148725 | H4: Yes | I4: 0.02 | J4: =Table1[[#This Row],[Total $]] -> 148725 | R4: Sold | S4: =Table1[[#This Row],[Units]] -> 1983 | T4: DVD players on account to Toyota for | U4: =Table1[[#This Row],[$ per Unit]] -> 75 | V4: per unit, Invoice #5555 | AA4: =CONCATENATE(Table1[[#This Row],[Concatenate1]]," ",Table1[[#This Row],[Concatenate2]]," ",Table1[[#This Row],[Concatenate3]]," $",Table1[[#This Row],[Concatenate4]]," ",Table1[[#This Row],[Concatenate5]]," ",Table1[[#This Row],[Concatenate6]]) -> Sold 1983 DVD players on account to Toyota for $75 per unit, Invoice #5555
A5: 41427 | B5: Purchase | C5: Purchases Journal | G5: 1150 | H5: Yes | I5: 0.02 | J5: ='General Ledger'!F56 -> 2000 | R5: Purchased office supplies from Office Max on credit for $ | S5: =Table1[[#This Row],[Total $]] -> 1150 | AA5: =CONCATENATE(Table1[[#This Row],[Concatenate1]],"",Table1[[#This Row],[Concatenate2]]," ",Table1[[#This Row],[Concatenate3]]," ",Table1[[#This Row],[Concatenate4]]," ",Table1[[#This Row],[Concatenate5]]," ",Table1[[#This Row],[Concatenate6]]) -> Purchased office supplies from Office Max on credit for $1150
A6: 41427 | B6: Sale | C6: Sales Journal | E6: 3400 | F6: 58 | G6: =E6*F6 -> 197200 | H6: Yes | I6: 0.02 | J6: =Table1[[#This Row],[Total $]] -> 197200 | R6: Sold | S6: =Table1[[#This Row],[Units]] -> 3400 | T6: GPS units on account to Kia for | U6: =Table1[[#This Row],[$ per Unit]] -> 58 | V6: per unit, Invoice #5556. | AA6: =CONCATENATE(Table1[[#This Row],[Concatenate1]]," ",Table1[[#This Row],[Concatenate2]]," ",Table1[[#This Row],[Concatenate3]]," $",Table1[[#This Row],[Concatenate4]]," ",Table1[[#This Row],[Concatenate5]]," ",Table1[[#This Row],[Concatenate6]]) -> Sold 3400 GPS units on account to Kia for $58 per unit, Invoice #5556.
A7: 41427 | B7: Sale | C7: Sales Journal | E7: 975 | F7: 66 | G7: =E7*F7 -> 64350 | H7: Yes | I7: 0.02 | R7: Sold | S7: =Table1[[#This Row],[Units]] -> 975 | T7: docking stations for | U7: =Table1[[#This Row],[$ per Unit]] -> 66 | V7: per unit and | W7: =E8 -> 1925 | X7: GPS units for | Y7: =F8 -> 82 | Z7: per unit on account to Nissan, Invoice #5557. | AA7: =CONCATENATE(Table1[[#This Row],[Concatenate1]]," ",Table1[[#This Row],[Concatenate2]]," ",Table1[[#This Row],[Concatenate3]]," $",Table1[[#This Row],[Concatenate4]]," ",Table1[[#This Row],[Concatenate5]]," ",Table1[[#This Row],[Concatenate6]]," ",Table1[[#This Row],[Concatenate7]]," $",Table1[[#This Row],[Concatenate8]]," ",Table1[[#This Row],[Concatenate9]]) -> Sold 975 docking stations for $66 per unit and 1925 GPS units for $82 per unit on account to Nissan, Invoice #5557.
A8: 41427 | B8: Sale | C8: Sales Journal | E8: 1925 | F8: 82 | G8: =E8*F8 -> 157850 | H8: Yes | I8: 0.02
A9: 41429 | B9: Cash Receipt | C9: Cash Receipts Journal | G9: 185000 | H9: No | I9: 0.02 | J9: 0 | K9: 0 | L9: 0 | R9: Received payment from Toyota for May 11th sale. | AA9: =CONCATENATE(Table1[[#This Row],[Concatenate1]]," ",Table1[[#This Row],[Concatenate2]]," ",Table1[[#This Row],[Concatenate3]]," ",Table1[[#This Row],[Concatenate4]]," ",Table1[[#This Row],[Concatenate5]]," ",Table1[[#This Row],[Concatenate6]]," ",Table1[[#This Row],[Concatenate7]]," ",Table1[[#This Row],[Concatenate8]]," ",Table1[[#This Row],[Concatenate9]]) -> Received payment from Toyota for May 11th sale.
A10: 41432 | B10: Cash Payments | C10: Cash Payments Journal | D10: Travel & Ent. Exp. | G10: 900 | H10: No | J10: 0 | K10: 0 | L10: 0 | R10: Received and paid expense reports for travel and entertainment totaling | S10: =Table1[[#This Row],[Total $]] -> 900 | T10: , Check #5279. | AA10: =CONCATENATE(Table1[[#This Row],[Concatenate1]]," $",Table1[[#This Row],[Concatenate2]]," ",Table1[[#This Row],[Concatenate3]]," ",Table1[[#This Row],[Concatenate4]]," ",Table1[[#This Row],[Concatenate5]]," ",Table1[[#This Row],[Concatenate6]]," ",Table1[[#This Row],[Concatenate7]]," ",Table1[[#This Row],[Concatenate8]]," ",Table1[[#This Row],[Concatenate9]]) -> Received and paid expense reports for travel and entertainment totaling $900 , Check #5279.
A11: 41433 | B11: Cash Payments | C11: Cash Payments Journal | G11: 1200 | H11: Yes | I11: 0.02 | J11: =G11 -> 1200 | K11: =J11*I11 -> 24 | L11: =J11-K11 -> 1176 | R11: Paid for office supplies purchased on June 2nd, Check #5280. | AA11: =CONCATENATE(Table1[[#This Row],[Concatenate1]]," ",Table1[[#This Row],[Concatenate2]]," ",Table1[[#This Row],[Concatenate3]]," ",Table1[[#This Row],[Concatenate4]]," ",Table1[[#This Row],[Concatenate5]]," ",Table1[[#This Row],[Concatenate6]]," ",Table1[[#This Row],[Concatenate7]]," ",Table1[[#This Row],[Concatenate8]]," ",Table1[[#This Row],[Concatenate9]]) -> Paid for office supplies purchased on June 2nd, Check #5280.
A12: 41436 | B12: Cash Payment | C12: Cash Payments Journal | G12: =L12 -> 107849 | H12: Yes | I12: 0.02 | J12: =G3 -> 110050 | K12: =J12*I3 -> 2201 | L12: =J12-K12 -> 107849 | R12: Paid in full for the June 1 purchase from Navistar, Check #5281. | AA12: =CONCATENATE(Table1[[#This Row],[Concatenate1]]," ",Table1[[#This Row],[Concatenate2]]," ",Table1[[#This Row],[Concatenate3]]," ",Table1[[#This Row],[Concatenate4]]," ",Table1[[#This Row],[Concatenate5]]," ",Table1[[#This Row],[Concatenate6]]," ",Table1[[#This Row],[Concatenate7]]," ",Table1[[#This Row],[Concatenate8]]," ",Table1[[#This Row],[Concatenate9]]) -> Paid in full for the June 1 purchase from Navistar, Check #5281.
A13: 41436 | B13: Cash Payment | C13: Cash Payments Journal | D13: Legal Expenses | G13: 5400 | H13: no | J13: 0 | K13: 0 | L13: 0 | R13: Received a bill from the law firm of Larry, Moe & Curly for | S13: =Table1[[#This Row],[Total $]] -> 5400 | T13: , payable upon receipt, for bond consulting fees, Check #5282. | AA13: =CONCATENATE(Table1[[#This Row],[Concatenate1]]," $",Table1[[#This Row],[Concatenate2]]," ",Table1[[#This Row],[Concatenate3]]," ",Table1[[#This Row],[Concatenate4]]," ",Table1[[#This Row],[Concatenate5]]," ",Table1[[#This Row],[Concatenate6]]," ",Table1[[#This Row],[Concatenate7]]," ",Table1[[#This Row],[Concatenate8]]," ",Table1[[#This Row],[Concatenate9]]) -> Received a bill from the law firm of Larry, Moe & Curly for $5400 , payable upon receipt, for bond consulting fees, Check #5282.
A14: 41438 | B14: Purchase | C14: Purchases Journal | E14: 3250 | F14: 48 | G14: =E14*F14 -> 156000 | H14: Yes | I14: 0.02 | J14: =G14 -> 156000 | R14: Took advantage of a special deal to purchase | S14: =Table1[[#This Row],[Units]] -> 3250 | T14: DVD players on account from JVC for | U14: =Table1[[#This Row],[$ per Unit]] -> 48 | V14: per unit. | AA14: =CONCATENATE(Table1[[#This Row],[Concatenate1]]," ",Table1[[#This Row],[Concatenate2]]," ",Table1[[#This Row],[Concatenate3]]," $",Table1[[#This Row],[Concatenate4]]," ",Table1[[#This Row],[Concatenate5]]," ",Table1[[#This Row],[Concatenate6]]," ",Table1[[#This Row],[Concatenate7]]," ",Table1[[#This Row],[Concatenate8]]," ",Table1[[#This Row],[Concatenate9]]) -> Took advantage of a special deal to purchase 3250 DVD players on account from JVC for $48 per unit.
A15: 41438 | B15: Purchase | C15: Purchases Journal | E15: 850 | F15: 33 | G15: =E15*F15 -> 28050 | H15: Yes | I15: 0.02 | J15: =G15 -> 28050 | R15: Purchased | S15: =Table1[[#This Row],[Units]] -> 850 | T15: GPS units on credit from Magellan for | U15: =Table1[[#This Row],[$ per Unit]] -> 33 | V15: per unit. | AA15: =CONCATENATE(Table1[[#This Row],[Concatenate1]]," ",Table1[[#This Row],[Concatenate2]]," ",Table1[[#This Row],[Concatenate3]]," $",Table1[[#This Row],[Concatenate4]]," ",Table1[[#This Row],[Concatenate5]]," ",Table1[[#This Row],[Concatenate6]]," ",Table1[[#This Row],[Concatenate7]]," ",Table1[[#This Row],[Concatenate8]]," ",Table1[[#This Row],[Concatenate9]]) -> Purchased 850 GPS units on credit from Magellan for $33 per unit.
A16: 41440 | B16: Salaries | C16: Cash Payments Journal | G16: 14500 | H16: no | J16: 0 | K16: 0 | L16: 0 | R16: Check # 5284 was issued for payroll: | S16: =Table1[[#This Row],[Total $]] -> 14500 | T16: for salaried and | U16: =G17 -> 4750 | V16: for wages (wage expense) | AA16: =CONCATENATE(Table1[[#This Row],[Concatenate1]]," $",Table1[[#This Row],[Concatenate2]]," ",Table1[[#This Row],[Concatenate3]]," $",Table1[[#This Row],[Concatenate4]]," ",Table1[[#This Row],[Concatenate5]]," ",Table1[[#This Row],[Concatenate6]]," ",Table1[[#This Row],[Concatenate7]]," ",Table1[[#This Row],[Concatenate8]]," ",Table1[[#This Row],[Concatenate9]]) -> Check # 5284 was issued for payroll: $14500 for salaried and $4750 for wages (wage expense)
A17: 41440 | B17: Wages | C17: Cash Payments Journal | G17: 4750 | H17: no | J17: 0 | K17: 0 | L17: 0 | AA17: =CONCATENATE(Table1[[#This Row],[Concatenate1]]," ",Table1[[#This Row],[Concatenate2]]," ",Table1[[#This Row],[Concatenate3]]," ",Table1[[#This Row],[Concatenate4]]," ",Table1[[#This Row],[Concatenate5]]," ",Table1[[#This Row],[Concatenate6]]," ",Table1[[#This Row],[Concatenate7]]," ",Table1[[#This Row],[Concatenate8]]," ",Table1[[#This Row],[Concatenate9]])
A18: 41440 | B18: Sales | C18: Sales Journal | E18: 2000 | F18: 89 | G18: =E18*F18 -> 178000 | H18: Yes | I18: 0.02 | J18: =Table1[[#This Row],[Total $]] -> 178000 | R18: Sold | S18: =Table1[[#This Row],[Units]] -> 2000 | T18: DVD players on credit to Ford Motor Co. for | U18: =Table1[[#This Row],[$ per Unit]] -> 89 | V18: per unit, Invoice 5558. | AA18: =CONCATENATE(Table1[[#This Row],[Concatenate1]]," ",Table1[[#This Row],[Concatenate2]]," ",Table1[[#This Row],[Concatenate3]]," $",Table1[[#This Row],[Concatenate4]]," ",Table1[[#This Row],[Concatenate5]]," ",Table1[[#This Row],[Concatenate6]]," ",Table1[[#This Row],[Concatenate7]]," ",Table1[[#This Row],[Concatenate8]]," ",Table1[[#This Row],[Concatenate9]]) -> Sold 2000 DVD players on credit to Ford Motor Co. for $89 per unit, Invoice 5558.
A19: 41441 | B19: Purchase | C19: Purchases Journal | E19: 1800 | F19: 42 | G19: =Table1[[#This Row],[Units]]*Table1[[#This Row],[$ per Unit]] -> 75600 | H19: Yes | I19: 0.02 | J19: =Table1[[#This Row],[Total $]] -> 75600 | R19: Purchased | S19: =Table1[[#This Row],[Units]] -> 1800 | T19: docking stations on credit from Samsung for | U19: =Table1[[#This Row],[$ per Unit]] -> 42 | V19: per unit. | AA19: =CONCATENATE(Table1[[#This Row],[Concatenate1]]," ",Table1[[#This Row],[Concatenate2]]," ",Table1[[#This Row],[Concatenate3]]," $",Table1[[#This Row],[Concatenate4]]," ",Table1[[#This Row],[Concatenate5]]," ",Table1[[#This Row],[Concatenate6]]," ",Table1[[#This Row],[Concatenate7]]," ",Table1[[#This Row],[Concatenate8]]," ",Table1[[#This Row],[Concatenate9]]) -> Purchased 1800 docking stations on credit from Samsung for $42 per unit.
A20: 41443 | B20: Cash Receipts | C20: Cash Receipts Journal | G20: =Table1[[#This Row],[Amt of Balance]] -> 145750.5 | H20: Yes | I20: 0.02 | J20: =G4 -> 148725 | K20: =G4*I4 -> 2974.5 | L20: =Table1[[#This Row],[Balance Owing]]-Table1[[#This Row],[Amt of Discount]] -> 145750.5 | R20: Received payment in full from Toyota for the June 1st sale. | AA20: =CONCATENATE(Table1[[#This Row],[Concatenate1]]," ",Table1[[#This Row],[Concatenate2]]," ",Table1[[#This Row],[Concatenate3]]," ",Table1[[#This Row],[Concatenate4]]," ",Table1[[#This Row],[Concatenate5]]," ",Table1[[#This Row],[Concatenate6]]," ",Table1[[#This Row],[Concatenate7]]," ",Table1[[#This Row],[Concatenate8]]," ",Table1[[#This Row],[Concatenate9]]) -> Received payment in full from Toyota for the June 1st sale.
A21: 41447 | B21: Sale | C21: Sales Journal | E21: 1650 | F21: 64.5 | G21: =Table1[[#This Row],[Units]]*Table1[[#This Row],[$ per Unit]] -> 106425 | H21: Yes | I21: 0.02 | J21: =Table1[[#This Row],[Total $]] -> 106425 | R21: Sold | S21: =Table1[[#This Row],[Units]] -> 1650 | T21: docking stations on credit to Kia for | U21: =Table1[[#This Row],[$ per Unit]] -> 64.5 | V21: per unit, Invoice #5559. | AA21: =CONCATENATE(Table1[[#This Row],[Concatenate1]]," ",Table1[[#This Row],[Concatenate2]]," ",Table1[[#This Row],[Concatenate3]]," ",Table1[[#This Row],[Concatenate4]]," ",Table1[[#This Row],[Concatenate5]]," ",Table1[[#This Row],[Concatenate6]]," ",Table1[[#This Row],[Concatenate7]]," ",Table1[[#This Row],[Concatenate8]]," ",Table1[[#This Row],[Concatenate9]]) -> Sold 1650 docking stations on credit to Kia for 64.5 per unit, Invoice #5559.
A22: 41448 | B22: Cash Payment | C22: Cash Payments Journal | G22: 75000 | H22: no | J22: 162500 | K22: 0 | L22: =Table1[[#This Row],[Balance Owing]]-Table1[[#This Row],[Total $]] -> 87500 | R22: Paid | S22: =Table1[[#This Row],[Total $]] -> 75000 | T22: of the | U22: =Table1[[#This Row],[Balance Owing]] -> 162500 | V22: owed to JVC from May 25, Check #5285. | AA22: =CONCATENATE(Table1[[#This Row],[Concatenate1]]," $",Table1[[#This Row],[Concatenate2]]," ",Table1[[#This Row],[Concatenate3]]," $",Table1[[#This Row],[Concatenate4]]," ",Table1[[#This Row],[Concatenate5]]," ",Table1[[#This Row],[Concatenate6]]," ",Table1[[#This Row],[Concatenate7]]," ",Table1[[#This Row],[Concatenate8]]," ",Table1[[#This Row],[Concatenate9]]) -> Paid $75000 of the $162500 owed to JVC from May 25, Check #5285.
A23: 41448 | B23: Cash Receipt | C23: Cash Receipts Journal | G23: 175000 | H23: no | J23: 300000 | K23: 0 | L23: =Table1[[#This Row],[Balance Owing]]-Table1[[#This Row],[Total $]] -> 125000 | R23: Received payment from Ford Motor Co. for | S23: =Table1[[#This Row],[Total $]] -> 175000 | T23: of the | U23: =Table1[[#This Row],[Balance Owing]] -> 300000 | V23: owed from May 5. | AA23: =CONCATENATE(Table1[[#This Row],[Concatenate1]]," $",Table1[[#This Row],[Concatenate2]]," ",Table1[[#This Row],[Concatenate3]]," $",Table1[[#This Row],[Concatenate4]]," ",Table1[[#This Row],[Concatenate5]]," ",Table1[[#This Row],[Concatenate6]]," ",Table1[[#This Row],[Concatenate7]]," ",Table1[[#This Row],[Concatenate8]]," ",Table1[[#This Row],[Concatenate9]]) -> Received payment from Ford Motor Co. for $175000 of the $300000 owed from May 5.
A24: 41449 | B24: Cash Payment | C24: Cash Payments Journal | D24: Telecom. Expense | G24: 100 | H24: no | J24: 0 | K24: 0 | R24: Purchased a | S24: =Table1[[#This Row],[Total $]] -> 100 | T24: international phone card for one of the sales representative's upcoming European business trip, Check #5286. | AA24: =CONCATENATE(Table1[[#This Row],[Concatenate1]]," $",Table1[[#This Row],[Concatenate2]]," ",Table1[[#This Row],[Concatenate3]]," ",Table1[[#This Row],[Concatenate4]]," ",Table1[[#This Row],[Concatenate5]]," ",Table1[[#This Row],[Concatenate6]]," ",Table1[[#This Row],[Concatenate7]]," ",Table1[[#This Row],[Concatenate8]]," ",Table1[[#This Row],[Concatenate9]]) -> Purchased a $100 international phone card for one of the sales representative's upcoming European business trip, Check #5286.
