Workbook

Sheet Instructions
A1: ACCT 346
A2: Student Name
A3: Bravo Baking Company began operations in May of 2010 with the production and sales of speciality breads.
A4: The company has experienced a good market demand for its high protein, low carbohydrate product called "Hi-Lo"
A5: Hi-Lo's success has required that Bravo continue to make only this one product, however, Bravo's customers,
A6: the local retailers, have been asking for more specialty breads from the company. The decision to expand will be made
A7: in the coming weeks.
A9: Weekly Assignments: Complete the assigned Tab each week.
A10: In each worksheet there are several Green colored cells. These cells must be filled in with your response.
D11: Due | E11: Points Available | F11: Points Earned
A12: Tab1) Product vs. Period Costs | D12: Week 1 | E12: 10 | F12: =+'Tab 1 ProductPeriod'!M18 -> 0
A13: Tab 2) Cost of Goods Manufactured Schedule | D13: Week 2 | E13: 30 | F13: =+'Tab 2 COGM&COGS'!L48 -> 0
A14: Tab 3) Break Even Analysis | D14: Week 3 | E14: 40 | F14: =+'Tab 3 CVP'!G25 -> 0
A15: Tab 4) Incremental Analysis | D15: Week 5 | E15: 40 | F15: =+'Tab 4 Incremental Analysis'!F30 -> 0
A16: Tab 5) Capital Budgeting | D16: Week 6 | E16: 40 | F16: =+'Tab 5 Capital Budgeting'!G19 -> 0
A17: Tab 6) Variance Analysis | D17: Week 7 | E17: 40 | F17: =+'Tab 6 Variance Analysis'!K33 -> 20
E18: =SUM(E12:E17) -> 200 | F18: =SUM(F12:F17) -> 20 | G18: Total

Sheet Tab 1 ProductPeriod
A1: ACCT 346
A2: Student Name
A3: For Tables A : From the list below, identify if the cost item is a "Product Cost" or "Period Cost" by typing "Product" or "Period" in the appropriate box. | I3: 10 points | J3: For Table B: From the list below, identify if the cost item is a "Direct Cost" or "Indirect Cost" by typing "Direct" or "Indirect" in the appropriate box.
A4: Table A | B4: Enter either "Product" or "Period" | J4: Table B | K4: Enter either "Direct" or "Indirect"
A5: Flour used in baking bread | D5: =+IF(I5="Correct",1,0) -> 0 | I5: =IF(B5="","",IF(B5="Product","Correct","Try Again")) | J5: Flour used in baking bread | M5: =IF(K5="","",IF(K5="Direct","Correct","Try Again")) | N5: =+IF(M5="correct",1,0) -> 0
A6: Factory Supervisor Salaries | D6: =+IF(I6="Correct",1,0) -> 0 | I6: =IF(B6="","",IF(B6="Product","Correct","Try Again")) | J6: Factory Supervisor Salaries | M6: =IF(K6="","",IF(K6="Indirect","Correct","Try Again")) | N6: =+IF(M6="correct",1,0) -> 0
A7: Bakers wages | D7: =+IF(I7="Correct",1,0) -> 0 | I7: =IF(B7="","",IF(B7="Product","Correct","Try Again")) | J7: Bakers wages | M7: =IF(K7="","",IF(K7="Direct","Correct","Try Again")) | N7: =+IF(M7="correct",1,0) -> 0
A8: Rent for Executive Offices | D8: =+IF(I8="Correct",1,0) -> 0 | I8: =IF(B8="","",IF(B8="Period","Correct","Try Again")) | J8: Factory Insurance | M8: =IF(K8="","",IF(K8="Indirect","Correct","Try Again")) | N8: =+IF(M8="correct",1,0) -> 0
A9: Sales Commissions | D9: =+IF(I9="Correct",1,0) -> 0 | I9: =IF(B9="","",IF(B9="Period","Correct","Try Again")) | J9: Rent for Factory | M9: =IF(K9="","",IF(K9="Indirect","Correct","Try Again")) | N9: =+IF(M9="correct",1,0) -> 0
A10: Utilities used in the factory | D10: =+IF(I10="Correct",1,0) -> 0 | I10: =IF(B10="","",IF(B10="Product","Correct","Try Again")) | J10: Utilities used in the factory | M10: =IF(K10="","",IF(K10="Indirect","Correct","Try Again")) | N10: =+IF(M10="correct",1,0) -> 0
A11: Advertising costs | D11: =+IF(I11="Correct",1,0) -> 0 | I11: =IF(B11="","",IF(B11="Period","Correct","Try Again")) | J11: Cleaning Bake Ovens | M11: =IF(K11="","",IF(K11="Indirect","Correct","Try Again")) | N11: =+IF(M11="correct",1,0) -> 0
A12: Delivery truck costs | D12: =+IF(I12="Correct",1,0) -> 0 | I12: =IF(B12="","",IF(B12="period","Correct","Try Again")) | J12: Insurance on Factory | M12: =IF(K12="","",IF(K12="Indirect","Correct","Try Again")) | N12: =+IF(M12="correct",1,0) -> 0
A13: Paper wrappers for bread | D13: =+IF(I13="Correct",1,0) -> 0 | I13: =IF(B13="","",IF(B13="Product","Correct","Try Again")) | J13: Paper wrappers for bread | M13: =IF(K13="","",IF(K13="Direct","Correct","Try Again")) | N13: =+IF(M13="correct",1,0) -> 0
A14: Depreciation on bake ovens | D14: =+IF(I14="Correct",1,0) -> 0 | I14: =IF(B14="","",IF(B14="Product","Correct","Try Again")) | J14: Depreciation on bake ovens | M14: =IF(K14="","",IF(K14="Indirect","Correct","Try Again")) | N14: =+IF(M14="correct",1,0) -> 0
A15: Eggs, salt, water used for baking | D15: =+IF(I15="Correct",1,0) -> 0 | I15: =IF(B15="","",IF(B15="Product","Correct","Try Again")) | J15: Eggs used for baking | M15: =IF(K15="","",IF(K15="Direct","Correct","Try Again")) | N15: =+IF(M15="correct",1,0) -> 0
A16: Interest on bank loan | D16: =+IF(I16="Correct",1,0) -> 0 | I16: =IF(B16="","",IF(B16="Period","Correct","Try Again")) | J16: Small amounts of salt used | M16: =IF(K16="","",IF(K16="Indirect","Correct","Try Again")) | N16: =+IF(M16="correct",1,0) -> 0
A17: Factory Insurance | D17: =+IF(I17="Correct",1,0) -> 0 | I17: =IF(B17="","",IF(B17="Product","Correct","Try Again")) | J17: Factory Insurance | M17: =IF(K17="","",IF(K17="Indirect","Correct","Try Again")) | N17: =+IF(M17="correct",1,0) -> 0
D18: =SUM(D5:D17) -> 0 | L18: Points | M18: =+(N18+D18)*0.384615384 -> 0 | N18: =SUM(N5:N17) -> 0

Sheet Tab 2 COGM&COGS
A1: ACCT 346
A2: Student Name
A3: Use the information provided below to prepare the Cost of Good Manufactured Schedule:Bravo had the following costs as of Dec 31, 2010. Enter the correct values in the Green shaded cells. | L3: (TCO 2) | M3: 30 points
A4: Table C | F4: Cost of Goods Manufactured Schedule | N4: =+IF(D5="correct",1,0) -> 0
A5: Materials used in baking bread | D5: =IF(C5="","",IF(C5=32000,"Correct","Try Again")) | F5: Beginning Work In Process | K5: =IF(J5="","",IF(J5=8000,"Correct","Try Again")) | N5: =+IF(K5="correct",1,0) -> 0
A6: Factory Supervisor Salaries | C6: 20000 | F6: Materials
A7: Bakers wages | C7: 32000 | F7: Beginning Inventory Materials | I7: =IF(H7="","",IF(H7=10000,"Correct","Try Again")) | N7: =+IF(I7="correct",1,0) -> 0
A8: Rent for Executive Offices | C8: 36000 | F8: Plus: Purchases | I8: =IF(H8="","",IF(H8=26000,"Correct","Try Again")) | N8: =+IF(I8="correct",1,0) -> 0
A9: Sales Commissions | C9: 10000 | F9: Materials Available | I9: =IF(H9="","",IF(H9=36000,"Correct","Try Again")) | N9: =+IF(I9="correct",1,0) -> 0
A10: Utilities used in the factory | C10: 5000 | F10: Less: Ending Inventory Materials | I10: =IF(H10="","",IF(H10=4000,"Correct","Try Again")) | N10: =+IF(I10="correct",1,0) -> 0
A11: Advertising costs | C11: 12000 | F11: Materials Used | J11: =IF(I11="","",IF(I11=32000,"Correct","Try Again")) | N11: =+IF(J11="correct",1,0) -> 0
A12: Delivery truck costs | C12: 25000 | F12: Direct Labor | J12: =IF(I12="","",IF(I12=32000,"Correct","Try Again")) | N12: =+IF(J12="correct",1,0) -> 0
A13: Depreciation on bake ovens | C13: 500 | F13: Overhead
A14: Interest on bank loan | C14: 250 | F14: Factory Rent | I14: =IF(H14="","",IF(H14=7500,"Correct","Try Again")) | N14: =+IF(I14="correct",1,0) -> 0
A15: Beginning Inventory Materials | C15: 10000 | F15: Depreciation on bake ovens | I15: =IF(H15="","",IF(H15=500,"Correct","Try Again")) | N15: =+IF(I15="correct",1,0) -> 0
A16: Beginning Work in Process | C16: 8000 | F16: Utilities used in Factory | I16: =IF(H16="","",IF(H16=5000,"Correct","Try Again")) | N16: =+IF(I16="correct",1,0) -> 0
A17: Ending Inventory Materials | C17: 4000 | F17: Other Overhead costs | I17: =IF(H17="","",IF(H17=1200,"Correct","Try Again")) | N17: =+IF(I17="correct",1,0) -> 0
A18: Inventory Purchases | C18: 26000 | F18: Total Overhead | J18: =IF(I18="","",IF(I18=14200,"Correct","Try Again")) | N18: =+IF(J18="correct",1,0) -> 0
A19: Ending Work in Process | C19: 2500 | F19: Total Manufacturing Costs | K19: =IF(J19="","",IF(J19=78200,"Correct","Try Again")) | N19: =+IF(K19="correct",1,0) -> 0
A20: Other Overhead costs | C20: 1200 | F20: Total Work in Process | K20: =IF(J20="","",IF(J20=86200,"Correct","Try Again")) | N20: =+IF(K20="correct",1,0) -> 0
A21: Beginning Finished Goods Inventory | C21: 7500 | F21: Less: Ending Work in Process | K21: =IF(J21="","",IF(J21=2500,"Correct","Try Again")) | N21: =+IF(K21="correct",1,0) -> 0
A22: Ending Finished Goods Inventory | C22: 6000 | F22: Cost of Goods Manufactured | K22: =IF(J22="","",IF(J22=83700,"Correct","Try Again")) | N22: =+IF(K22="correct",1,0) -> 0
A23: Rent for Factory | C23: 7500
F24: Complete only the Green cells. Values in Red are from the schedule above.
F25: Cost of Goods Sold Schedule
F26: Beginning Finished Goods Inventory | L26: =IF(K26="","",IF(K26=7500,"Correct","Try Again")) | N26: =+IF(L26="correct",1,0) -> 0
F27: Beginning Work In Process | J27: =+J5 -> 0 | K27: =IF(J27="","",IF(J27=8000,"Correct","Try Again")) -> Try Again
F28: Materials
F29: Beginning Inventory Materials | H29: =+H7 -> 0 | I29: =IF(H29="","",IF(H29=10000,"Correct","Try Again")) -> Try Again
F30: Plus: Purchases | H30: =+H8 -> 0 | I30: =IF(H30="","",IF(H30=26000,"Correct","Try Again")) -> Try Again
F31: Materials Available | H31: =+H29+H30 -> 0 | I31: =IF(H31="","",IF(H31=36000,"Correct","Try Again")) -> Try Again
F32: Less: Ending Inventory Materials | H32: =+H10 -> 0 | I32: =IF(H32="","",IF(H32=4000,"Correct","Try Again")) -> Try Again
F33: Materials Used | I33: =+H31-H32 -> 0 | J33: =IF(I33="","",IF(I33=32000,"Correct","Try Again")) -> Try Again
F34: Direct Labor | I34: =+I12 -> 0 | J34: =IF(I34="","",IF(I34=32000,"Correct","Try Again")) -> Try Again
F35: Overhead
F36: Factory Rent | H36: =+H14 -> 0 | I36: =IF(H36="","",IF(H36=7500,"Correct","Try Again")) -> Try Again
F37: Depreciation on bake ovens | H37: =+H15 -> 0 | I37: =IF(H37="","",IF(H37=500,"Correct","Try Again")) -> Try Again
F38: Utilities used in Factory | H38: =+H16 -> 0 | I38: =IF(H38="","",IF(H38=5000,"Correct","Try Again")) -> Try Again
F39: Other Overhead costs | H39: =+H17 -> 0 | I39: =IF(H39="","",IF(H39=1200,"Correct","Try Again")) -> Try Again
F40: Total Overhead | I40: =+H36+H37+H38+H39 -> 0 | J40: =IF(I40="","",IF(I40=14200,"Correct","Try Again")) -> Try Again
...

Sheet Tab 3 CVP
A1: ACCT 346
A2: Student Name
A3: Bravo Baking identified the costs below to determine its cost of one unit of product and its monthly operating costs. (TCO 4) | F3: 40 Points
A4: Units produced | B4: 14000
E5: Part I Enter your solution in the green cells for each of the following:
A6: Table A | B6: Variable | C6: Fixed | E6: Using the costs from Table A compute
A7: Materials used in baking bread | B7: =32000/B4 -> 2.2857143 | D7: =IF(C7="","",IF(C7=32000,"Correct","Try Again")) | E7: A) Breakeven units (rounded to 2 decimal places) | G7: =IF(F7="","",IF(F7=+C18/(B21-B18),"Correct","Try Again")) | H7: =+IF(G7="correct",1,0) -> 0
A8: Factory Supervisor Salaries | B8: =1666.66666666667/B4 -> 0.11904762 | E8: B) Break-even sales dollars | G8: =IF(F8="","",IF(F8=+F7*B21,"Correct","Try Again")) | H8: =+IF(G8="correct",1,0) -> 0
A9: Bakers wages | B9: =32000/B4 -> 2.2857143 | E9: C) Contribution Margin | G9: =IF(F9="","",IF(F9=B21-B18,"Correct","Try Again")) | H9: =+IF(G9="correct",1,0) -> 0
A10: Rent for Executive Offices | C10: =36000/12 -> 3000 | E10: D) Contribution Margin Ratio (%) | G10: =IF(F10="","",IF(F10=+F9/B21,"Correct","Try Again")) | H10: =+IF(G10="correct",1,0) -> 0
A11: Sales Commissions | C11: =+B4*0.25 -> 3500
A12: Utilities used in the factory | B12: =5000/10000 -> 0.5 | E12: Part II Complete the following requirements
A13: Advertising costs | C13: =12000/12 -> 1000 | E13: A) If Bravo requires a profit of $5,000 how many units must it sell? | G13: =IF(F13="","",IF(F13=+(C18+5000)/F9,"Correct","Try Again")) | H13: =+IF(G13="correct",1,0) -> 0
A14: Delivery truck depreciation | C14: 400 | E14: B) What is the total revenue from A above? | G14: =IF(F14="","",IF(F14=+F13*B21,"Correct","Try Again")) | H14: =+IF(G14="correct",1,0) -> 0
A15: Depreciation on bake ovens | B15: =1000/B4 -> 0.071428571 | E15: C) If Bravo actually sells 8,000 units
A16: Interest on bank loan | C16: 500 | E16: 1) What is the margin of safety in Dollars? | G16: =IF(F16="","",IF(F16=+(8000*7.89)-F8,"Correct","Try Again")) | H16: =+IF(G16="correct",1,0) -> 0
E17: 2) What is the margin of safety percentage? | G17: =IF(F17="","",IF(F17=F16/(8000*B21),"Correct","Try Again")) | H17: =+IF(G17="correct",1,0) -> 0
A18: Total Costs | B18: 5.26 | C18: 8400
A21: Price Charged per unit | B21: 7.89
E24: Total Correct
F25: Points | G25: =+H25*5 -> 0 | H25: =SUM(H7:H24) -> 0
E26: Hint: use spreadsheet formulas to compute your answers

Sheet Tab 4 Incremental Analysis
A1: ACCT 346
A2: Student Name
A3: Bravo Baking Co has expanded its product line to include several other specialty breads. The operating results for the last quarter are provided below. | L3: (TCO 7) | M3: 40 Points
A5: Product | B5: Hi-Lo | C5: Whole Grain | D5: Fruit & Nuts | E5: Total
A6: Revenues | B6: =7.95*8500 -> 67575 | C6: =7.95* 4000 -> 31800 | D6: =7.95* 2000 -> 15900 | E6: =SUM(B6:D6) -> 115275
A7: Variable product costs | B7: =+B6*0.4 -> 27030 | C7: =+C6*0.4 -> 12720 | D7: =+D6*0.4 -> 6360 | E7: =SUM(B7:D7) -> 46110
A8: Variable Selling & Administrative costs | B8: =+B6*0.2 -> 13515 | C8: =+C6*0.2 -> 6360 | D8: =+D6*0.2 -> 3180 | E8: =SUM(B8:D8) -> 23055
A9: Contribution Margin | B9: =+B6-B7-B8 -> 27030 | C9: =+C6-C7-C8 -> 12720 | D9: =+D6-D7-D8 -> 6360 | E9: =SUM(B9:D9) -> 46110
A10: Fixed Product Costs | B10: 5000 | C10: 5000 | D10: 5000 | E10: =SUM(B10:D10) -> 15000
A11: Fixed Selling and Administrative Costs | B11: 5700 | C11: =+B11/2 -> 2850 | D11: =+C11 -> 2850 | E11: =SUM(B11:D11) -> 11400
A12: Allocated Common Costs | B12: 5000 | C12: =+B12/2 -> 2500 | D12: =+C12 -> 2500 | E12: =SUM(B12:D12) -> 10000
A13: Net Income | B13: =+B9-B10-B11-B12 -> 11330 | C13: =+C9-C10-C11-C12 -> 2370 | D13: =+D9-D10-D11-D12 -> -3990 | E13: =+E9-E10-E11-E12 -> 9710
A16: Required: Bravo wants to know the effect on Net Income if it decides to discontinue the Fruit & Nuts product.
A17: If Bravo eliminates Fruit & Nuts 50% of fixed costs can be avoided.
A18: Prepare and incremental analysis showing the Net Income Effect of eliminating the Fruit & Nuts product.
A19: What woud you advise Bravo to do?
A20: Using the Table below, compute the Net Income for Bravo Baking after eliminating the Fruit & Nuts product.
A21: Product | B21: Hi-Lo | C21: Whole Grain | D21: Fruit & Nuts | E21: Total
A22: Revenues | F22: =IF(E22="","",IF(E22=99375,"Correct","Try Again")) | G22: =+IF(F22="correct",1,0) -> 0
A23: Variable product costs | F23: =IF(E23="","",IF(E23=39750,"Correct","Try Again")) | G23: =+IF(F23="correct",1,0) -> 0
A24: Variable Selling & Administrative costs | F24: =IF(E24="","",IF(E24=19875,"Correct","Try Again")) | G24: =+IF(F24="correct",1,0) -> 0
A25: Contribution Margin | F25: =IF(E25="","",IF(E25=39750,"Correct","Try Again")) | G25: =+IF(F25="correct",1,0) -> 0
A26: Fixed Product Costs | F26: =IF(E26="","",IF(E26=12500,"Correct","Try Again")) | G26: =+IF(F26="correct",1,0) -> 0
A27: Fixed Selling and Administrative Costs | F27: =IF(E27="","",IF(E27=9975,"Correct","Try Again")) | G27: =+IF(F27="correct",1,0) -> 0
A28: Allocated Common Costs | F28: =IF(E28="","",IF(E28=8750,"Correct","Try Again")) | G28: =+IF(F28="correct",1,0) -> 0
A29: Net Income | F29: =IF(E29="","",IF(E29=8525,"Correct","Try Again")) | G29: =+IF(F29="correct",1,0) -> 0
E30: Points | F30: =+G30*5 -> 0 | G30: =SUM(G22:G29) -> 0

Sheet Tab 5 Capital Budgeting
A1: ACCT 346
A2: Student Name
A3: Bravo Baking Co is considering replacing an older freezer with a larger unit to freeze some of its bread.
A4: The new unit has a larger capacity and Bravo estimates it can produce and sell an more bread each year. From these additional sales
A5: the after tax cash flow is expected to be $4,000. In addition to more sales, the new freezer will save $1,200 in electricity each year. | L5: TCO 9
A6: However, the new freezer will cost an additional $2,000 each year for maintenance. The cost of the new unit is $25,000 and it is | L6: 40 Points
A7: expected to last 10 years. The salvage value at the end of its life is $6,000. The old unit is fully depreciated and can be disposed at cost.
A8: Determine the Net Present Value of purchasing the new freezer using a required rate of return of 14%. Should Bravo purchase the freezer?
A10: Use the format below to complete the NPV computations:
A11: (Note: Use PV Tables on pages 342 and 343. Also, be sure to show costs as negative values)
B12: Cash Flow | D12: PV Factors | F12: PV Amounts
A13: Cost of new refrigeration unit | G13: =IF(F13="","",IF(F13=-25000,"Correct","Try Again")) | H13: =+IF(G13="correct",1,0) -> 0
A14: After tax cash flow | E14: =IF(D14="","",IF(D14=5.2161,"Correct","Try Again")) | G14: =IF(F14="","",IF(F14=20864.4,"Correct","Try Again")) | H14: =+IF(G14="correct",1,0) -> 0
A15: Annual electricity savings | E15: =IF(D15="","",IF(D15=5.2161,"Correct","Try Again")) | G15: =IF(F15="","",IF(F15=6259.32,"Correct","Try Again")) | H15: =+IF(G15="correct",1,0) -> 0
A16: Additional annual maintenance costs | E16: =IF(D16="","",IF(D16=5.2161,"Correct","Try Again")) | G16: =IF(F16="","",IF(F16=-10432.2,"Correct","Try Again")) | H16: =+IF(G16="correct",1,0) -> 0
A17: Amount collected from disposal of unit | E17: =IF(D17="","",IF(D17=0.2697,"Correct","Try Again")) | G17: =IF(F17="","",IF(F17=1618.2,"Correct","Try Again")) | H17: =+IF(G17="correct",1,0) -> 0
A18: Net present value | G18: =IF(F18="","",IF(F18=-6690.28,"Correct","Try Again")) | H18: =+IF(G18="correct",1,0) -> 0
F19: Points | G19: =+H19*6.6666666667 -> 0 | H19: =SUM(H13:H18) -> 0

Sheet Tab 6 Variance Analysis
A1: ACCT 346 | I1: TCO 10
A2: Student Name | I2: 40 Points
A4: Bravo Baking uses standard costing to analyze its performance. The data below is provided for your use in determining Bravo's variances.
A5: Standard Cost per unit | B5: Cost /Unit | C5: Amount/Unit | D5: Standard Cost
A6: Material Cost (Ingredients) (.5 lbs) | B6: 2.29 | C6: .5 lbs | D6: 4.58
A7: Direct Labor( .25 hrs * $9/hr) | B7: 2.25 | C7: .25 hrs | D7: 9
A8: Overhead | B8: 0.57
A9: Total | B9: =SUM(B6:B8) -> 5.11
A11: During the month, Bravo sold 9,000 loaves of bread and used 4,650 pounds of ingredients. Also during the month, Bravo
A12: purchased 5,000 pounds of ingredients at a cost of $22,500. Employees worked a total of 2200 hours and actual labor costs were $19,998
A15: Required:
A16: Part a. Compute the material price and quantity variance.
A18: Material Price Variance =
C19: = ( | E19: - | G19: ) *
C20: = | D20: =(D19-F19)*H19 -> 0 | E20: Fav/Unf > | F20: Fav
D21: =IF(D20="","",IF(D20=-400,"Correct","Try Again")) -> Try Again | F21: =IF(F20="","",IF(F20="fav","Correct","Try Again")) -> Correct | L21: =+IF(D21="correct",1,0) -> 0 | M21: =+IF(F21="correct",1,0) -> 1
A22: Material Quantity Variance =
C23: = ( | E23: - | G23: ) *
C24: = | D24: =(D23-F23)*H23 -> 0 | E24: Fav/Unf | F24: Unf
D25: =IF(D24="","",IF(D24=687,"Correct","Try Again")) -> Try Again | F25: =IF(F24="","",IF(F24="unf","Correct","Try Again")) -> Correct | L25: =+IF(D25="correct",1,0) -> 0 | M25: =+IF(F25="correct",1,0) -> 1
A26: Labor Rate Variance =
C27: = ( | E27: - | G27: ) *
C28: = | E28: Fav/Unf > | F28: Unf
D29: =IF(D28="","",IF(D28=200,"Correct","Try Again")) | F29: =IF(F28="","",IF(F28="unf","Correct","Try Again")) -> Correct | L29: =+IF(D29="correct",1,0) -> 0 | M29: =+IF(F29="correct",1,0) -> 1
A30: Labor Efficiency Variance =
C31: = ( | E31: - | G31: ) *
C32: = | E32: Fav/Unf | F32: fav
D33: =IF(D32="","",IF(D32=-450,"Correct","Try Again")) | F33: =IF(F32="","",IF(F32="fav","Correct","Try Again")) -> Correct | J33: Points | K33: =+L34*5 -> 20 | L33: =+IF(D33="correct",1,0) -> 0 | M33: =+IF(F33="correct",1,0) -> 1
L34: =SUM(L21:M33) -> 4
